BEGIN:VCALENDAR
VERSION:2.0
PRODID:-//Fiestas y Tradiciones  - ECPv6.15.11//NONSGML v1.0//EN
CALSCALE:GREGORIAN
METHOD:PUBLISH
X-ORIGINAL-URL:https://www.tradicionesyfiestas.com
X-WR-CALDESC:Eventos para Fiestas y Tradiciones 
REFRESH-INTERVAL;VALUE=DURATION:PT1H
X-Robots-Tag:noindex
X-PUBLISHED-TTL:PT1H
BEGIN:VTIMEZONE
TZID:Europe/Madrid
BEGIN:DAYLIGHT
TZOFFSETFROM:+0100
TZOFFSETTO:+0200
TZNAME:CEST
DTSTART:20250330T010000
END:DAYLIGHT
BEGIN:STANDARD
TZOFFSETFROM:+0200
TZOFFSETTO:+0100
TZNAME:CET
DTSTART:20251026T010000
END:STANDARD
BEGIN:DAYLIGHT
TZOFFSETFROM:+0100
TZOFFSETTO:+0200
TZNAME:CEST
DTSTART:20260329T010000
END:DAYLIGHT
BEGIN:STANDARD
TZOFFSETFROM:+0200
TZOFFSETTO:+0100
TZNAME:CET
DTSTART:20261025T010000
END:STANDARD
BEGIN:DAYLIGHT
TZOFFSETFROM:+0100
TZOFFSETTO:+0200
TZNAME:CEST
DTSTART:20270328T010000
END:DAYLIGHT
BEGIN:STANDARD
TZOFFSETFROM:+0200
TZOFFSETTO:+0100
TZNAME:CET
DTSTART:20271031T010000
END:STANDARD
END:VTIMEZONE
BEGIN:VEVENT
DTSTART;TZID=Europe/Madrid:20260504T110000
DTEND;TZID=Europe/Madrid:20260517T210000
DTSTAMP:20260419T233149
CREATED:20160130T202337Z
LAST-MODIFIED:20250628T142259Z
UID:990-1777892400-1779051600@www.tradicionesyfiestas.com
SUMMARY:Fiesta de los Patios de Córdoba
DESCRIPTION:[vc_row][vc_column][vc_column_text] \n\n \n\nDónde y Cuándo\nFiesta de los Patios de Córdoba  04/05/2026 – 17/05/2026  \nCórdoba. Andalucía. España. Europa. \nFiesta de los Patios de Córdoba es una de la celebraciones catalogadas como Fiesta de Interés Turístico Nacional y se celebra a modo de concurso generalmente durante la segunda y la tercera semana de Mayo. Tiene lugar en diferentes barrios de Córdoba\, quizá el barrio más característico el del Alcázar Viejo aunque también en otros como el barrio de San Basilio\, el barrio de Santa Marina o la Judería\, lugares éstos\, con muchas historia. En 2026 serán del 4 al 17 de mayo. \nCórdoba es una ciudad andaluza con 328.000 habitantes. La Mezquita es su edificio más reconocible y es el símbolo de la ciudad. \nOrigen…unas píldoras de Historia\nLa Fiesta de los Patios de Córdoba se celebró por primera vez en el año 1921 cuando el ayuntamiento organizó un concurso aunque en sus primeros años esta fiesta sufrió diversas vicisitudes y no sería hasta los años 50 cuando comenzó a consolidarse. \nFue declarada Fiesta de Interés Turístico Nacional en el Año 1980. \nEn el año 2012 esta fiesta fue declarada como Patrimonio Inmaterial Cultural de la Humanidad por la Unesco. \nQué es / En qué consiste\nLos actos más destacados del Festival de los Patios de Córdoba son además del Concurso todas las actuaciones musicales que se generan entorno a ellos\, desde flamenco a música de cámara y conciertos. \nLos vecinos de Córdoba son los que se encargan de engalanar los patios con ilusión y trabajo con el fin de obtener el prestigioso galardón. Es el  Ayuntamiento el que se ocupa de organizar el concurso\, otorgando los premios. Todos los patios forman una rica paleta de colores donde destaca el blanco como lienzo donde apoyar la variada gama de  colores de las flores que los adornan. \nDos son las categorías en las que se compite en el Festival de los Patios de Córdoba: la primera en la categoría de “patio tradicional” y la segunda en la categoría  “patio de construcción moderna”. Está permitido que se presenten patios fuera de concurso. El último año fueron 52 patios a concurso y 12 fuera de él. \nFiesta de los Patios de Córdoba: curiosidades\nComo dato curioso comentar que en el año 2013 se realizó un estudio del impacto económico que genera esta fiesta a la Ciudad de Córdoba y superaba los  6 millones de euros. \nLa entrada para ver los patios de Córdoba es gratuita\, pero son muchísimas las personas que los visitan durante estos días. Por eso hacerlo acompañados por un guía local es una de las mejores opciones. \nEn alguno de los patios puedes hasta alojarte y disfrutar de un buen descanso. \nFiesta de los Patios de Córdoba: información práctica\nActividades: Visitar la Mezquita-Catedral de Córdoba\, el impresionante  yacimiento de Medina Azahara o el Alcázar de los Reyes Cristianos. También puedes disfrutar de sus Baños Árabes\, tanto los Baños Califales como los Baños Árabes de Santa María te sorprenderán. Además podrás visitar los diferentes museos de la ciudad para conocer su historia.  Sus más de 13 conventos son otra oportunidad para pasar varios días visitando Córdoba. Podrás comer en alguno de los mejores restaurantes de la zona y dormir en cualquiera de los cómodos alojamientos disponibles. \nSi quieres ampliar información puedes visitar la web de la Asociación Amigos de los Patios Cordobeses. \n\n \nPatios de Córdoba  from Comuniko on Vimeo. \n\n 
URL:https://www.tradicionesyfiestas.com/fiesta/fiesta-de-los-patios-de-cordoba/
LOCATION:Córdoba\, Puerta Templo Romano (Ayuntamiento de Córdoba)\, Córdoba\, Córdoba\, 14001\, España
CATEGORIES:Festival/Festival Folclórico,Fiestas Populares
ATTACH;FMTTYPE=image/jpeg:https://www.tradicionesyfiestas.com/wp-content/uploads/2016/01/patios-cordoba-cabecera2.jpg
END:VEVENT
BEGIN:VEVENT
DTSTART;TZID=Europe/Madrid:20260517T100000
DTEND;TZID=Europe/Madrid:20260517T140000
DTSTAMP:20260419T233149
CREATED:20150506T162651Z
LAST-MODIFIED:20250628T143035Z
UID:5251-1779012000-1779026400@www.tradicionesyfiestas.com
SUMMARY:Procesión de las Cien Doncellas de Sorzano
DESCRIPTION:  \n\n \nDónde y Cuándo\nProcesión de las Cien Doncellas de Sorzano 17/05/2026 \nSorzano. La Rioja. Spain. Europe. \nLa Procesión de las Cien Doncellas de Sorzano se desarrolla todos los años el tercer domingo de Mayo. A las 11 h. comienza la procesión en la iglesia de San Martín de Sorzano. En 2026\, la Procesión será el  17 de Mayo. \nSorzano es una localidad riojana de unos 250 habitantes\, situada en la comarca de Logroño\, en el valle del río Iregua. Es una zona rica en viñas y cereal. \nOrigen…unas píldoras de Historia  \nEl sentido de esta celebración se encuentra en un tributo que hubo que pagar hace siglos; es un rito que anuncia un cambio y manifiesta el culto a las imágenes que son llevadas en procesión. \nDar las gracias y bendecir los campos era\, en su origen pagano\, la motivación principal de esta celebración. Posteriormente\, los diferentes pueblos de la zona organizaban una romería hasta la ermita de la Virgen honrada:  «La Hermedaña». Una vez allí\, se hacía una comida que se repartía también entre los pobres. La celebración común fue perdiendo el sentido; el culto dejó de ser habitual y más tarde la ermita cayó en ruina. \nEl origen documentado de la Procesión de las Cien Doncellas\, se encuentra en el siglo XIX. \nQué es / En qué consiste\nCada tercer domingo de Mayo antes del medio día\, se inician los actos de  esta celebración. \nLa Procesión de las Cien Doncellas de Sorzano comienza con una comitiva que parte de la Iglesia parroquial\, portando la imagen de La Hermedaña hasta la ermita de la Virgen del Roble. La comitiva la encabezan Cien Doncellas que portan ramas de acebo\, acompañadas por un grupo de danzantes a los que dirige un personaje con pinta de arlequín que se llama Cachiberrio. Cierran la procesión el resto de asistentes. \nUna vez que se llega a la ermita y en una explanada\, colocan las dos imágenes: la de la Virgen de La Hermedaña y la de la Virgen del Roble. Es en ese momento cuando se celebra una ceremonia donde se elogian los valores de la Pureza. Estas cien Doncellas\, después de este rito\, se convierten en mujeres portadoras de fecundidad\, o sea\, en mozas casaderas. \nAl terminar la ceremonia\, la comitiva emprende un camino de regreso hasta la parroquia\, con la imagen de la Virgen del Roble. \nProcesión de las cien doncellas de Sorzano: curiosidades\nComo dato curioso\, te comentaré que después de diversos avatares\, esta celebración volvió a resurgir a partir de 1972 gracias al impulso que le dio el párroco local\, José Miguel Rubio Ibarra. \nProcesión de las cien doncellas de Sorzano: información práctica\nActividades: visitar las Bodegas de la zona\, el Museo Würth o el Ecoparque de la Rioja. Realizar la Ruta del Camino de la Lengua por lo Monasterios de Yuso y Suso. Puedes comer en alguno de los mejores restaurantes de la zona y dormir en cualquiera de los cómodos alojamientos disponibles. \nSi quieres ampliar información puedes visitar la web de La Rioja Turismo \n “La foto de cabecera y la foto que ilustra este post se han publicado gracias a la cesión de Carlos Andrés “
URL:https://www.tradicionesyfiestas.com/fiesta/procesion-de-las-cien-doncellas-de-sorzano/
LOCATION:Sorzano\, Plaza Juan Calvo\, s/n\, Sorzano\, La Rioja\, 26191
CATEGORIES:Fiestas Religiosas,Procesión,Ritos
ATTACH;FMTTYPE=image/jpeg:https://www.tradicionesyfiestas.com/wp-content/uploads/2015/05/100-doncellas-cabecera-blog.jpg
END:VEVENT
END:VCALENDAR