BEGIN:VCALENDAR
VERSION:2.0
PRODID:-//Fiestas y Tradiciones  - ECPv6.15.11//NONSGML v1.0//EN
CALSCALE:GREGORIAN
METHOD:PUBLISH
X-ORIGINAL-URL:https://www.tradicionesyfiestas.com
X-WR-CALDESC:Eventos para Fiestas y Tradiciones 
REFRESH-INTERVAL;VALUE=DURATION:PT1H
X-Robots-Tag:noindex
X-PUBLISHED-TTL:PT1H
BEGIN:VTIMEZONE
TZID:Europe/Madrid
BEGIN:DAYLIGHT
TZOFFSETFROM:+0100
TZOFFSETTO:+0200
TZNAME:CEST
DTSTART:20250330T010000
END:DAYLIGHT
BEGIN:STANDARD
TZOFFSETFROM:+0200
TZOFFSETTO:+0100
TZNAME:CET
DTSTART:20251026T010000
END:STANDARD
BEGIN:DAYLIGHT
TZOFFSETFROM:+0100
TZOFFSETTO:+0200
TZNAME:CEST
DTSTART:20260329T010000
END:DAYLIGHT
BEGIN:STANDARD
TZOFFSETFROM:+0200
TZOFFSETTO:+0100
TZNAME:CET
DTSTART:20261025T010000
END:STANDARD
BEGIN:DAYLIGHT
TZOFFSETFROM:+0100
TZOFFSETTO:+0200
TZNAME:CEST
DTSTART:20270328T010000
END:DAYLIGHT
BEGIN:STANDARD
TZOFFSETFROM:+0200
TZOFFSETTO:+0100
TZNAME:CET
DTSTART:20271031T010000
END:STANDARD
END:VTIMEZONE
BEGIN:VEVENT
DTSTART;TZID=Europe/Madrid:20260607T100000
DTEND;TZID=Europe/Madrid:20260607T180000
DTSTAMP:20260420T102351
CREATED:20130403T141614Z
LAST-MODIFIED:20250628T144042Z
UID:408-1780826400-1780855200@www.tradicionesyfiestas.com
SUMMARY:Día de Cara
DESCRIPTION: Dónde y Cuándo\nDía de Cara 07/06/2026  \nSantacara. Navarra. España. Europa \nEsta fiesta se celebra en el mes de junio en Santacara. Con esta celebración se pretende poner en valor el patrimonio arqueológico y profundizar en la historia de dicha ciudad\, el Ayuntamiento de Santacara en colaboración con el Consorcio de Desarrollo de la Zona Media organizó desde hace años\, el I Día de Cara\, Ciudad Romana. \nOrigen…unas pinceladas de Historia\nSe celebró por primera vez en el año 2008 \nQué es / En qué consiste\nLos actos más destacados son mercado romano\, demostraciones de oficios\, representaciones (artesanas\, comedias) juegos romanos dirigidos a los más pequeños\, combates de gladiadores\, magia\, tiro con arco\, montaje campamentos romanos con diversas exposiciones de dicha época y música con instrumentos romanos\, entre otras actividades \nEn 2026 será el 7 de junio. \nDía de Cara: curiosidades\nComo dato curioso has de saber que en ninguna de las ediciones han faltado visitas al protagonista de la festividad\, el yacimiento Cara\, Ciudad Romana. Estas visitas en unas ocasiones han sido visitas guiadas dirigidas por los técnicos de arqueología del Gobierno Foral de Navarra y en otras\, se ha explicado mediante representaciones teatralizadas. \nSi quieres ampliar información puedes visitar nuestro el post de nuestro blog \n“La foto de cabecera y la foto que ilustra este post se han publicado gracias al Consorcio de Desarrollo de la Zona Media «
URL:https://www.tradicionesyfiestas.com/fiesta/dia-de-cara/
LOCATION:Santacara\, Plaza del Ayuntamiento\, 1\, Santacara\, Navarra\, 31314\, España
CATEGORIES:Día de,Fiestas Populares
ATTACH;FMTTYPE=image/jpeg:https://www.tradicionesyfiestas.com/wp-content/uploads/2013/04/destacada-evento.jpg
END:VEVENT
BEGIN:VEVENT
DTSTART;TZID=Europe/Madrid:20260614T100000
DTEND;TZID=Europe/Madrid:20260614T190000
DTSTAMP:20260420T102351
CREATED:20130623T204619Z
LAST-MODIFIED:20250628T144259Z
UID:1523-1781431200-1781463600@www.tradicionesyfiestas.com
SUMMARY:Fiesta de la Cereza de Milagro
DESCRIPTION:  \n\n \nDónde y Cuándo\nFiesta de la Cereza de Milagro 14/06/2026  \nMilagro. Navarra. España. Europa. \nLa Fiesta de la Cereza de Milagro\, cereza «Pinta»\, se celebra el segundo o tercer domingo de Junio y coincide con la recogida de la cosecha en ese mismo mes. \n\nEn 2026 será el 14 de junio( pendiente de confirmación)  \n\nMilagro es una localidad navarra de unos 3300 habitantes\, situada en la comarca de la Ribera Arga Aragón. La cereza es la seña de identidad de esta localidad ribera. \nOrigen…unas píldoras de Historia\nLa Fiesta de la Cereza de Milagro se celebró por primera vez en el año 2000 concretamente el domingo 18 de junio. con la intención de poner en valor este fruto y su variedad «Pinta» propia de la localidad. Este fruto destaca por su color\, dureza y su sabor dulce. \nQué es / En qué consiste\n» De Milagro son las Cerezas» es el lema entorno al que se organiza este evento. Aunque se celebran actos durante el fin de semana\, es el domingo el día grande. Destacan el Concurso de Postres «Cereza de Milagro»\, la Feria de Artesanía y Alimentación\, espectáculos musicales y como no el recinto ferial donde se rinde homenaje a la cereza con más de 300 puntos. Llegan a venderse más de 30.000 kgs de cereza. \nFiesta de la Cereza de Milagro: curiosidades\nComo dato curioso has de saber que son más de 15.000 personas las que visitan cada año esta fiesta. Con el paso de los años\, cada vez se acerca más gente no solo de Navarra o provincias limítrofes\, también de provincias más alejadas. \nFiesta de la Cereza de Milagro: información práctica\nActividades: visitar el Parque Natural y Reserva de la Biosfera de Bardenas Realeso el Parque de aventura y diversión Senda Viva. Puedes comer en alguno de los mejores restaurantes de la zona y dormir en cualquiera de los cómodos alojamientos disponibles. \nSi quieres ampliar información puedes visitar la web de Turismo de Navarra.
URL:https://www.tradicionesyfiestas.com/fiesta/fiesta-de-la-cereza/
LOCATION:Milagro\, c/ Joaquin Corti\, 1\, Milagro\, Navarra\, 31320\, España
CATEGORIES:Día de,Feria,Fiestas Populares
ATTACH;FMTTYPE=image/jpeg:https://www.tradicionesyfiestas.com/wp-content/uploads/2013/06/fiesta-cereza-Destacada4.jpg
END:VEVENT
BEGIN:VEVENT
DTSTART;TZID=Europe/Madrid:20260621T100000
DTEND;TZID=Europe/Madrid:20260621T140000
DTSTAMP:20260420T102352
CREATED:20140711T205705Z
LAST-MODIFIED:20260206T161508Z
UID:3794-1782036000-1782050400@www.tradicionesyfiestas.com
SUMMARY:Día del Mundo Rural en Miranda de Arga
DESCRIPTION: Dónde y Cuándo\nDía del Mundo Rural en Miranda de Arga. 21/06/2026 \nMiranda. Navarra. España. Europa. \nEl Día del Mundo Rural en Miranda de Arga\, es una celebración que rinde homenaje a los oficios que hace medio siglo suponían la forma de vida de las gentes de la localidad. Se celebraba todos los años en el mes de Julio\, generalmente el tercer Domingo pero han decidido cambiar las fechas y ahora es en junio. \nEn 2026 será el 21 de junio (pendiente de confirmación) \nMiranda de Arga es una pequeña localidad de unos 900 habitantes situada en la Comarca de la Ribera Arga-Aragón\, en la Merindad de Olite. \nOrigen…unas píldoras de Historia  \nEsta celebración\, Día del Mundo rural en Miranda de Arga\,  es una fiesta de reciente creación; concretamente\, se viene realizando desde el año 2000 cuando el Ayuntamiento de Miranda de Arga junto con el Consorcio de la Zona Media decidieron poner en valor los antiguos oficios que habían supuesto la forma de vida para las personas del pueblo. \nMiranda ha sido siempre una localidad eminentemente agraria\, con un gran conocimiento de oficios antiguos y ha sabido conservar muchas de las herramientas y aperos que se utilizaban hace algo más de medio siglo; gracias a todo ese conocimiento se pudo poner en marcha este día de homenaje. \nQué es / En qué consiste\nAmplios y variados son los actos que se celebran este día. \nTodo comienza en torno a las 10 de la mañana con la Apertura de la Fiesta del Mundo Rural. Uno de los actos que más llama la atención es la Exhibición de siega a mano y los layadores\, que se desarrolla en la Era. \nTambién en la Era tiene lugar una curiosa exposición de máquinas y aperos agrícolas antiguos\, donde puedes admirar viejos tractores o trilladoras que funcionan estupendamente a pesar de los años. \nAsí mismo\, hay demostraciones de labores agrícolas con caballerías y bueyes. \nDespués\, en torno al medio día y ya en el centro del pueblo\, se pueden contemplar una variada muestra de oficios antiguos\, desde herradores\, esparteros\, sogueros\, alpargateros\, talladores de piedra\, vareadoras de lana\, trenzadoras de ajo\, bolilleras\, tostoneras\, todos dispuestos a lo largo del casco viejo de la localidad. \n\n Día del Mundo Rural en Miranda de Arga: curiosidades\nComo dato curioso\, contarte que todos estos actos que recuerdan los antiguos oficios se complementan con una Exposición Permanente\, una visita artística y cultural\, animación callejera por un grupo de teatro y los gigantes de la localidad. \nDía del Mundo Rural en Miranda de Arga: información práctica\nActividades: visitar el Castillo de Olite y conocer la historia de los Reyes de Navarra\, o visitar el Cerco de Artajona y conocer una de las fortificaciones amuralladas más singulares de Navarra. Puedes comer en alguno de los mejores restaurantes de la zona y dormir en cualquiera de los cómodos alojamientos disponibles. \nSi quieres ampliar la información turística visita la web de Turismo de Navarra \n 
URL:https://www.tradicionesyfiestas.com/fiesta/dia-del-mundo-rural-en-miranda-de-arga/
LOCATION:Miranda de Arga\, c/ San Benito\, 1\, Miranda de Arga\, Navarra\, 31253\, España
CATEGORIES:Costumbres,Día de,Fiestas Populares,Oficios
ATTACH;FMTTYPE=image/jpeg:https://www.tradicionesyfiestas.com/wp-content/uploads/2014/07/mundo-rural-cabecera-evento1.jpg
END:VEVENT
BEGIN:VEVENT
DTSTART;TZID=Europe/Madrid:20260629T080000
DTEND;TZID=Europe/Madrid:20260629T140000
DTSTAMP:20260420T102352
CREATED:20130702T212715Z
LAST-MODIFIED:20251022T154310Z
UID:1968-1782720000-1782741600@www.tradicionesyfiestas.com
SUMMARY:Batalla del Vino de Haro
DESCRIPTION:  \n\nDónde y Cuándo.\nBatalla del Vino de Haro 29/06/2026  \nHaro. La Rioja. España. Europa. \nLa Batalla del Vino de Haro es una fiesta de Interés Turístico Nacional que se celebra en la localidad Riojana de Haro la mañana del 29 de junio festividad de San Pedro. Este acto se enmarca dentro de las fiestas patronales de Haro del 24 al 29 de Junio en honor a San Juan\, San Felices y San Pedro. \nHaro es una localidad de unos 12.000 habitantes . Está situada en la provincia de La Rioja y es la capital de la comarca conocida como Rioja Alta. Es conocida por ser la capital del Vino Rioja. \nOrigen…unas píldoras de Historia\nSu origen está ligado a la muerte del patrón de la ciudad\, San Felices de Bilibio en el siglo VI\, las gentes del lugar comenzaron a visitar la cueva donde se encontraban sus restos y así surgió la peregrinación que con el paso del tiempo se convirtió en romería y que daría paso a lo que hoy conocemos como Batalla del Vino. \nFue declaradas Fiesta de Interés Turístico Nacional en el año 2011. \nQué es / En qué consiste\nEste acto donde se juntan lo religioso y lo pagano tiene lugar en la mañana del 29 de junio en los alrededores de la ermita que hay en los Riscos de Bilibio a unos 6 km de Haro. Es el Regidor Sindico el que encabeza la comitiva y el que coloca el Pendón de la ciudad en lo alto de las peñas. Se celebra una misa y después se da paso a la Batalla del Vino. Una vez terminada la batalla\, en torno a las 10 de la mañana\, los asistentes organizan «almuerzos» para reponer fuerzas. Después retomaran el camino andado para regresar a Haro y ya en la plaza de la Paz a las 12 darán las típicas “Vueltas” para completar un glorioso día. \nBatalla del Vino de Haro: curiosidades\nEn el año 2013 y por causa de un desprendimiento de unas rocas no se pudo celebrar en su lugar habitual junto a la ermita y se hizo en una explanada cercana\, la gente de Haro nos contó que no había sido lo mismo. Es una fiesta que cada año esta tomando más nombre fuera de nuestras fronteras recibiendo cada vez mas extranjeros. \nSi quieres ampliar información puedes visitar la web de la Batalla del Vino. \nBatalla del Vino de Haro: información práctica\nActividades: visitar alguna de las bodegas de la zona o el Museo de la Cultura del Vino. Puedes comer en alguno de los mejores restaurantes de la zona y dormir en cualquiera de los cómodos alojamientos disponibles.
URL:https://www.tradicionesyfiestas.com/fiesta/batalla-del-vino-haro/
LOCATION:Haro\, Riscos de Bilibio\, Haro\, La Rioja\, 26200\, España
CATEGORIES:Día de,Fiestas Patronales o Mayores,Fiestas Populares,Ritos
ATTACH;FMTTYPE=image/jpeg:https://www.tradicionesyfiestas.com/wp-content/uploads/2013/07/batalla-vino-haro3.jpg
END:VEVENT
END:VCALENDAR