BEGIN:VCALENDAR
VERSION:2.0
PRODID:-//Fiestas y Tradiciones  - ECPv6.15.11//NONSGML v1.0//EN
CALSCALE:GREGORIAN
METHOD:PUBLISH
X-ORIGINAL-URL:https://www.tradicionesyfiestas.com
X-WR-CALDESC:Eventos para Fiestas y Tradiciones 
REFRESH-INTERVAL;VALUE=DURATION:PT1H
X-Robots-Tag:noindex
X-PUBLISHED-TTL:PT1H
BEGIN:VTIMEZONE
TZID:Europe/Madrid
BEGIN:DAYLIGHT
TZOFFSETFROM:+0100
TZOFFSETTO:+0200
TZNAME:CEST
DTSTART:20250330T010000
END:DAYLIGHT
BEGIN:STANDARD
TZOFFSETFROM:+0200
TZOFFSETTO:+0100
TZNAME:CET
DTSTART:20251026T010000
END:STANDARD
BEGIN:DAYLIGHT
TZOFFSETFROM:+0100
TZOFFSETTO:+0200
TZNAME:CEST
DTSTART:20260329T010000
END:DAYLIGHT
BEGIN:STANDARD
TZOFFSETFROM:+0200
TZOFFSETTO:+0100
TZNAME:CET
DTSTART:20261025T010000
END:STANDARD
BEGIN:DAYLIGHT
TZOFFSETFROM:+0100
TZOFFSETTO:+0200
TZNAME:CEST
DTSTART:20270328T010000
END:DAYLIGHT
BEGIN:STANDARD
TZOFFSETFROM:+0200
TZOFFSETTO:+0100
TZNAME:CET
DTSTART:20271031T010000
END:STANDARD
END:VTIMEZONE
BEGIN:VEVENT
DTSTART;TZID=Europe/Madrid:20261207T190000
DTEND;TZID=Europe/Madrid:20261207T235500
DTSTAMP:20260420T192033
CREATED:20141128T201942Z
LAST-MODIFIED:20260116T150115Z
UID:4489-1796670000-1796687700@www.tradicionesyfiestas.com
SUMMARY:Fiesta de los Escobazos en Jarandilla de la Vera
DESCRIPTION:Dónde y Cuándo\nLos Escobazos en Jarandilla de la Vera. 07/12/2026  \nJarandilla de la Vera. Cáceres. España. Europa. \nLa Fiesta de Los Escobazos en Jarandilla de la Vera se celebra todos los años el 7 de diciembre en esta localidad cacereña de Jarandilla de la Vera. Ese día los Jarandillanos conmemoran el día de la Inmaculada. \nJarandilla de la Vera es una localidad de unos 3.000 habitantes\, perteneciente a la provincia de Cáceres en la Comunidad de Extremadura. Está situada en la Comarca de la Vera\, conocida por qué allí se produce el 35 % de la producción de tabaco de España y por el famoso pimentón de la Vera. \nOrigen… unas píldoras de Historia  \nLa tradición oral nos dice que el origen de la Fiesta de los Escobazos en Jarandilla de la Vera esta en los cabreros y pastores cuando hace siglos volvían de la sierra de cuidar su ganado\, con la intención de celebrar el Día de la Inmaculada. Para poder llegar a tiempo\, los pastores comenzaban de noche el descenso de la sierra. \nEra un trayecto complicado y no disponían de luz\, sufrían diferentes percances y para evitarlos\, un día decidieron preparar unas antorchas utilizando las retamas o escobazos que se encontraban en el lugar. Fue en ese momento cuando nació la tradición de los «escobazos». Los Escobazos son antorchas que se hacen de retamas\, un arbusto típico de la zona. \nAl llegar al pueblo\, sus familiares y vecinos los recibían con mucha alegría y la demostraban dándose golpes entre ellos con los escobazos encendidos. \nQué es / En qué consiste\nEn la Fiesta de los Escobazos en Jarandilla de la Vera se entremezclan los actos lúdicos y los actos religiosos. \nEsta festividad que sirve para conmemorar la celebración del día de la Inmaculada cuenta con diferentes actos donde los escobazos y el fuego son los protagonistas. \nEl día 7 por la tarde\, los vecinos de Jarandilla salen a la calle y se reúnen en la plaza del pueblo. Una vez allí todos encienden los escobazos y las hogueras que previamente han preparado. Hasta las 9 de la noche\, hora de la procesión\, los jarandillanos beben vino de pitarra\, y se dan golpes con los escobazos\, por debajo de la cintura\, a modo de saludo. También le cantan a la Virgen himnos y canciones populares. \nA las 9 de la noche\, comienza la procesión en honor de la Inmaculada. Es en ese momento\, cuando el Mayordomo\, montando a caballo\, se acerca a la Iglesia de Santa María de la Torre donde el párroco le entrega el estandarte de la Virgen de la Concepción. La procesión recorre las calles del pueblo con todo el pueblo acompañando al estandarte. Algunos van montados a caballo y otros portando los escobazos.  \n Pasadas unas horas\, la comitiva vuelve de nuevo a la plaza donde se da por finalizada la procesión levantando el estandarte y entonando vivas a la Virgen. \nLos Escobazos en Jarandilla de la Vera: curiosidades\nComo dato curioso\, contarte que esta guarda ciertas similitudes con la Procesión de la Virgen de los Pegotes o con el Vítor de Horcajo de Santiago el de Mayorga. \nLos Escobazos en Jarandilla de la Vera: información práctica\nActividades: visitar la Sierra de Gredos y la de Tormantos\, la Garganta de Gualtamino y su Cascada del Diablo\, una de las más espectaculares de España. \nPuedes comer en alguno de los mejores restaurantes de la zona y dormir en cualquiera de los cómodos alojamientos disponibles. \nSi quieres ampliar la información turística visita la web de Turismo de Extremadura. \n “La foto de cabecera y la foto que ilustra este post se han publicado bajo licencia Creative Commons el flickr de flickr de Heart Industry.
URL:https://www.tradicionesyfiestas.com/fiesta/los-escobazos-en-jarandilla-de-la-vera/
LOCATION:Jarandilla de la Vera\, Plaza de la Constitución\, 1\, Jarandilla de la Vera\, Cáceres\, 10450\, España
CATEGORIES:Día de,Fiestas Populares
ATTACH;FMTTYPE=image/jpeg:https://www.tradicionesyfiestas.com/wp-content/uploads/2014/11/escobazos-cabecera-blog.jpg
END:VEVENT
BEGIN:VEVENT
DTSTART;TZID=Europe/Madrid:20261227T090000
DTEND;TZID=Europe/Madrid:20261228T170000
DTSTAMP:20260420T192033
CREATED:20131207T214857Z
LAST-MODIFIED:20260116T153144Z
UID:2824-1798362000-1798477200@www.tradicionesyfiestas.com
SUMMARY:Festa dels Enfarinats
DESCRIPTION:Dónde y Cuándo\n\nIbi. Alicante. Spain. Europe. 28/12/2026  \nLa Festa dels Enfarinats o fiesta de los enharinados se celebra en Ibi (importante localidad juguetera) provincia de Alicante\, el día 28 de diciembre desde por la mañana. Su fin llega con el baile de la Dansá en torno a las 5 de la tarde. \nAunque la fiesta es conocida por celebrarse el día de los Santos Inocentes\, el día de antes\, 27 de diciembre por la noche\, salen los Enmantados o els Amantats. Estos personajes son los encargados de anunciar que a la mañana siguiente els Enfarinats tomarán el poder. \nOrigen…unas píldoras de Historia \nEl origen de la Festa dels Enfarinats no está muy claro. Julio Caro Baroja lo relaciona con las saturnales romanas y también con el carnaval. En los años 50 dejo de festejarse y desde 1981 se desarrolla tal y como hoy se conoce. Fueron un grupo de amigos los que se propusieron recuperarla. \nEn ese sentido no es una tradición como la demás\, ya que los encargados de realizarla son un grupo reducido de 14 amigos que como condición indispensable deben estar casados. \nQué es / En qué consiste \nEl 27 de Diciembre\, bien entrada la tarde salen los Amantats (enmantados) a leer diferentes bandos (en valenciano) que anuncian la llegada al poder de los Enfarinats (enharinados) al día siguiente.  Ya el día 28 por la mañana a eso de las 9\, comienza la fiesta.  \nDos son los bandos que se enfrentan en una «loca» batalla con el fin de obtener el gobierno de la localidad: por un lado los Enfarinats que han tomado el gobierno del pueblo y por otro lado la Oposición que no está de acuerdo. Ambos bandos comienzan a tirarse harina y también huevos. La batalla es el acto central del día pero no el único. \nOtros actos de la fiesta son: l’Aixavegó\, una red se coloca en la plaza para atrapar a todo el que no page las multas o desobedezca al alcalde. Más tarde continuarán con las Donaciones\, recorrer  los comercios para recaudar dinero que posteriormente entregarán en el asilo de Ancianos. Justo antes declaran una Tregua para comer. \nFinalizan los actos de la fiestas de los Enfarinats con el baile de la Dansá. \nFesta dels Enfarinats: curiosidades\nCuando la fiesta llega a su fin y los Enfarinats han perdido el poder\, aparecen los Tapats o tapados\, personajes irreconocibles que pueden ser las mujeres de los Enfarinats. \nInformación Práctica\nActividades: visitar el Museo del Juguete de Ibi o comer en alguno de los mejores restaurantes de la zona y dormir en cualquiera de los alojamientos disponibles: encuéntralos en Costa Blanca. \n“La foto de cabecera y la foto que ilustra este post se han publicado bajo licencia Creative Commons en el Flickr de Jose Maria Moreno
URL:https://www.tradicionesyfiestas.com/fiesta/festa-dels-enfarinats/
LOCATION:Ibi\, Plaza de la Iglesia\, 1\, Ibi\, Alicante\, 03440\, España
CATEGORIES:Día de,Fiestas Populares
ATTACH;FMTTYPE=image/jpeg:https://www.tradicionesyfiestas.com/wp-content/uploads/2013/12/els-enfarinats-cabecera.jpg
END:VEVENT
BEGIN:VEVENT
DTSTART;TZID=Europe/Madrid:20261230T070000
DTEND;TZID=Europe/Madrid:20261230T150000
DTSTAMP:20260420T192033
CREATED:20131210T090256Z
LAST-MODIFIED:20260116T153442Z
UID:2832-1798614000-1798642800@www.tradicionesyfiestas.com
SUMMARY:Festa del Pi
DESCRIPTION:Dónde y Cuándo\nFesta del Pi 30/12/2026 \nCentelles. Barcelona. España. Europa. \nLa Festa del Pi o Fiesta del Pino se celebra cada 30 de diciembre en Centelles\, localidad  de la provincia de Barcelona. Del 26 de diciembre al 6 de Enero varios son los días de celebración\, todos dentro de las fiestas de Santa Coloma. \nEl día 30 de diciembre es el día de los actos centrales\, pero varios días antes se prepara el pino que será cortado este día por la mañana. \nOrigen…unas píldoras de Historia \nEl origen documentado de esta fiesta es del año 1751 pero se cree que puede estar unido a celebraciones ancestrales\, de culto a los árboles y ritos paganos ligados al solsticio de invierno. \nLa fiesta va unida a la celebración de Santa Coloma\, patrona de la localidad\, desde su origen documentado. La relación entre Santa Coloma y la Festa del Pi la cuenta una leyenda donde se cree que la Santa fue quemada en un pino. \nQué es / En qué consiste \nEl 26 de Diciembre\, a las 9 de la mañana cuando un grupo de Galejadors o Trabucaires\, se dirigen al bosque para elegir y  marcar el mejor pino del bosque que el día 30 será cortado y llevado al pueblo. Es curiosa la forma que tienen los Galejadors (arcabuceros) de marcar el árbol\, no lo pintan ni nada parecido\, le pegan un tiro en la base\,  con el arcabuz. \nLa siguiente acción se lleva a cabo al día siguiente\, cuando se preparan los ramos de manzanas  o barquillos que se colgarán del pino para adornarlo. \nEl 30 de Diciembre es el día grande\, celebración de Santa Coloma. Ya bien temprano a eso de las 7 de la mañana lo vecinos de Centelles acuden a la misa en honor de la patrona. Después de la misa se desplazan hasta el bosque\, allí almuerzan y después recogen el pino y lo llevan al pueblo en una carreta tirada por dos bueyes. \nUna vez en el pueblo\, lo colocan delante de la iglesia y dispararán salvas para hacer el «ball del pi» o baile del pino. Después se introduce el pino en la iglesia y se eleva hacia el techo en posición invertida quedando así hasta el día de Reyes. \nEl día 31 de Diciembre se Celebra la Fiesta Mayor de Invierno. \nEl día 6 de Enero\, día de Reyes después de celebrar la misa\, se descuelga el pino y se dan por terminadas las fiestas. \nFesta del Pi: curiosidades\nComo dato curioso\, comentarte que cuando se introduce el pino en la iglesia se vuelve a serrar muy cerca de la copa y se le colocan los adornos\, ramos de manzanas y barquillos. \nEn 2019 se suspendieron las fiestas debido a una explosión de pólvora que se produjo en el campanario de la iglesia mientras los Galejadors o trabucaires lanzaban salvas para anunciar la llegada del pino a la iglesia. \nFesta del Pi: información Práctica\nActividades: visitar el Museu del Ter o disfrutar ricos manjares en cualquiera de los restaurantes de la zona y dormir en alguno de sus cómodos alojamientos. \nSi quieres ampliar información puedes visitar la web de Barcelona es mucho más. \n“La foto de cabecera y la foto que ilustra este post se han publicado bajo licencia Creative Commons en el Flickr de Yoli Serra«
URL:https://www.tradicionesyfiestas.com/fiesta/festa-del-pi-en-centelles/
LOCATION:Centelles\, c/ Nou\, 19\, Centelles\, Barcelna\, 08540\, España
CATEGORIES:Día de,Fiestas Populares
ATTACH;FMTTYPE=image/jpeg:https://www.tradicionesyfiestas.com/wp-content/uploads/2013/12/festa-del-pi-evento-cabecera.jpg
END:VEVENT
END:VCALENDAR