BEGIN:VCALENDAR
VERSION:2.0
PRODID:-//Fiestas y Tradiciones  - ECPv6.15.11//NONSGML v1.0//EN
CALSCALE:GREGORIAN
METHOD:PUBLISH
X-WR-CALNAME:Fiestas y Tradiciones 
X-ORIGINAL-URL:https://www.tradicionesyfiestas.com
X-WR-CALDESC:Eventos para Fiestas y Tradiciones 
REFRESH-INTERVAL;VALUE=DURATION:PT1H
X-Robots-Tag:noindex
X-PUBLISHED-TTL:PT1H
BEGIN:VTIMEZONE
TZID:Europe/Madrid
BEGIN:DAYLIGHT
TZOFFSETFROM:+0100
TZOFFSETTO:+0200
TZNAME:CEST
DTSTART:20250330T010000
END:DAYLIGHT
BEGIN:STANDARD
TZOFFSETFROM:+0200
TZOFFSETTO:+0100
TZNAME:CET
DTSTART:20251026T010000
END:STANDARD
BEGIN:DAYLIGHT
TZOFFSETFROM:+0100
TZOFFSETTO:+0200
TZNAME:CEST
DTSTART:20260329T010000
END:DAYLIGHT
BEGIN:STANDARD
TZOFFSETFROM:+0200
TZOFFSETTO:+0100
TZNAME:CET
DTSTART:20261025T010000
END:STANDARD
BEGIN:DAYLIGHT
TZOFFSETFROM:+0100
TZOFFSETTO:+0200
TZNAME:CEST
DTSTART:20270328T010000
END:DAYLIGHT
BEGIN:STANDARD
TZOFFSETFROM:+0200
TZOFFSETTO:+0100
TZNAME:CET
DTSTART:20271031T010000
END:STANDARD
END:VTIMEZONE
BEGIN:VEVENT
DTSTART;TZID=Europe/Madrid:20260404T100000
DTEND;TZID=Europe/Madrid:20260404T103000
DTSTAMP:20260420T084337
CREATED:20141108T142642Z
LAST-MODIFIED:20250421T075352Z
UID:4179-1775296800-1775298600@www.tradicionesyfiestas.com
SUMMARY:Volatín de Tudela
DESCRIPTION:Dónde y Cuándo\nVolatín de Tudela 04/04/2026  \nTudela. Navarra. España. Europa. \nEl Volatín es una tradición que se desarrolla en la ciudad de Tudela\, en la Comunidad Foral de Navarra; se desarrolla todos los años el Sábado Santo o Sábado de Gloria durante la Semana Santa. Es una tradición muy sencilla pero muy bella y simbólica. \nTudela de Navarra\, es una ciudad de unos 35.000 habitantes situada en la Ribera de Navarra\, zona famosa por sus fértiles tierras que producen extraordinarias verduras. \nOrigen…unas píldoras de Historia  \nLa tradición oral dice que el Volatín se desarrolla desde el siglo XVI\, aunque el origen documentado de esta celebración es del año 1732\, cuando se compraron diversos materiales para su construcción. Fue la Cofradía del Santísimo Sacramento la responsable de mantener esta singular tradición hasta que desapareció\, siendo el Ayuntamiento y varias personas de la ciudad las que recogieron el testigo años después. \nEl Volatín de Tudela fue declarada Fiesta de Interés Turístico Nacional en el año 2002. \nQué es / En qué consiste \nCada año\, el Sábado Santo a las 10 h\, comienza el Volatín con un breve pregón por un personaje reconocido por la sociedad tudelana. Después del discurso\, varios operarios preparan todo lo necesario para colocar el muñeco «Volatín» en su lugar. Con todo preparado\, se enciende el petardo que lleva colocado el Volatín en la boca y cuando explota\, comienzan a moverlo de un lado para otro\, perdiendo éste la ropa que le han puesto ese año y que suele ser para representar a algún personaje del que se ha hablado mucho los meses anteriores. \nEs en ese momento\, cuando ya el Volatín ha dejado de dar vueltas y se ha quedado prácticamente sin ropa\, cuando los que lo zarandean se paran y de pronto comienzan a lanzar balones y globos desde diferentes balcones de la Plaza Nueva\, para el disfrute de pequeños y mayores. \nVolatín de Tudela: curiosidades\nComo dato curioso\, te comentaré que una vez acabado el acto\, poco más de una hora más tarde\, en el Ayuntamiento se procede a realizar el bautizo del Cabezudo conocido como «Tudelano». Es un acto sencillo pero muy querido por los tudelanos\, en el que además\, regalan dicho cabezudo a alguna localidad navarra. \nVolatín de Tudela: información práctica\nActividades: visitar el Parque Natural de las Bardenas Reales\, con su increíble paisaje desértico convertido en plató de películas y anuncios.  El Parque de Ocio\, Aventura y Diversión Sendaviva; pasear por el Casco Antiguo de Tudela y ver la influencia en sus calles de las tres culturas (Judía\, Cristiana y Árabe)\, o comer en alguno de los mejores restaurantes de la zona y dormir en cualquiera de los cómodos alojamientos disponibles. \nSi quieres ampliar información puedes visitar la web de Turismo de Navarra \n“La foto de cabecera y la foto que ilustra este post se han publicado gracias a Turismo del Ayuntamiento de Tudela.»
URL:https://www.tradicionesyfiestas.com/fiesta/volatin-de-tudela/
LOCATION:Tudela\, Plaza de los Fueros\, 1\, Tudela\, Navarra\, 31500\, España
CATEGORIES:Día de,Fiestas Populares
ATTACH;FMTTYPE=image/jpeg:https://www.tradicionesyfiestas.com/wp-content/uploads/2014/04/volatin-blog-destacada.jpg
END:VEVENT
END:VCALENDAR