BEGIN:VCALENDAR
VERSION:2.0
PRODID:-//Fiestas y Tradiciones  - ECPv6.15.11//NONSGML v1.0//EN
CALSCALE:GREGORIAN
METHOD:PUBLISH
X-ORIGINAL-URL:https://www.tradicionesyfiestas.com
X-WR-CALDESC:Eventos para Fiestas y Tradiciones 
REFRESH-INTERVAL;VALUE=DURATION:PT1H
X-Robots-Tag:noindex
X-PUBLISHED-TTL:PT1H
BEGIN:VTIMEZONE
TZID:Europe/Madrid
BEGIN:DAYLIGHT
TZOFFSETFROM:+0100
TZOFFSETTO:+0200
TZNAME:CEST
DTSTART:20250330T010000
END:DAYLIGHT
BEGIN:STANDARD
TZOFFSETFROM:+0200
TZOFFSETTO:+0100
TZNAME:CET
DTSTART:20251026T010000
END:STANDARD
BEGIN:DAYLIGHT
TZOFFSETFROM:+0100
TZOFFSETTO:+0200
TZNAME:CEST
DTSTART:20260329T010000
END:DAYLIGHT
BEGIN:STANDARD
TZOFFSETFROM:+0200
TZOFFSETTO:+0100
TZNAME:CET
DTSTART:20261025T010000
END:STANDARD
BEGIN:DAYLIGHT
TZOFFSETFROM:+0100
TZOFFSETTO:+0200
TZNAME:CEST
DTSTART:20270328T010000
END:DAYLIGHT
BEGIN:STANDARD
TZOFFSETFROM:+0200
TZOFFSETTO:+0100
TZNAME:CET
DTSTART:20271031T010000
END:STANDARD
END:VTIMEZONE
BEGIN:VEVENT
DTSTART;TZID=Europe/Madrid:20260524T110000
DTEND;TZID=Europe/Madrid:20260524T130000
DTSTAMP:20260420T101212
CREATED:20150415T213509Z
LAST-MODIFIED:20251213T115531Z
UID:5201-1779620400-1779627600@www.tradicionesyfiestas.com
SUMMARY:Descenso de Nabatas por el Rio Cinca
DESCRIPTION:Dónde y Cuándo\nDescenso de Nabatas por el Río Cinca 24/05/26  \nLaspuña. Huesca. España. Europa. \nEl Descenso de Nabatas por el Río Cinca\, se desarrolla todos los años el domingo más próximo al 22 de mayo\, se hace en esta fecha para aprovechar el Mayenco (crecida del río por el deshielo de la nieve). A las 11 h comienza el Descenso de Nabatas. En 2026\, el Descenso de Nabatas por el Río Cinca será el 24 de Mayo. \nLaspuña es una localidad de unos 250 habitantes\, situada en la comarca del Sobrarbe. En esta comarca se encuentra el Parque Nacional de Ordesa y Monte Perdido y la Sierra y Cañones de Guara. \nOrigen…unas píldoras de Historia  \nEl origen del Descenso de Nabatas por el Río Cinca\, se encuentra en una iniciativa del Instituto Aragonés de Antropología para filmar una película en el año 1983\, sobre el oficio de Nabatero. Para filmar el documental «Nabateros« dirigido por Eugenio Monesma\, se fletaron dos Nabatas que hicieron el trayecto entre las localidades de Laspuña y Aínsa. Después\, fue el ayuntamiento y la Asociación de Nabateros  quienes recogieron el testigo de esta iniciativa y organizaron una fiesta para conmemorar el antiguo oficio de Nabatero. \nEn 1987 se organizó en Laspuña un encuentro entre Almadieros navarros\, nabateros aragoneses y raiers catalanes. \nAlmadía\, Nabata y Rai son palabras diferentes para denominar al conjunto de troncos atados entre sí\, que formaban una especie de embarcación que se creaba para trasportar los troncos río abajo\, llegando hasta Tortosa. \nQué es / En qué consiste\nCada año\, el penúltimo domingo de mayo a eso de las 11 h de la mañana\, se inicia el Descenso de Nabatas por el Río Cinca\, que durante un par de horas recorren el trayecto de 11 km entre las poblaciones de Laspuña y Aínsa. \nSe fletan tres Nabatas de dos o tres trampos (una nabata tiene como mínimo dos trampos  o «tramos» de 2500 kg cada uno. Son miles las personas que se concentran a lo largo del recorrido\, destacando el puente de Aínsa como lugar con mayor número de personas deseosas de ver el final del descenso. \nDescenso de Nabatas por el Rio Cinca: curiosidades\nComo dato curioso\, te comentaré que el día anterior al descenso se celebran diferentes actos en Laspuña. entre los que destacan: descenso de kayaks y piragüistas\, demostración de construcción y aguado de Nabatas\, cena y verbena. \nDescenso de Nabatas por el Rio Cinca: información práctica\nActividades: visitar la localidad de Aínsa o el Parque Nacional de Ordesa y Monte Perdido. Realizar la Ruta del Agua o la Ruta del Románico. Puedes comer en alguno de los mejores restaurantes de la zona y dormir en cualquiera de los cómodos alojamientos disponibles. \nSi quieres ampliar información puedes visitar la web de Turismo de Sobrarbe \n“La foto de cabecera y la foto que ilustra este evento se han publicado gracias a la Asociación de Nabateros«
URL:https://www.tradicionesyfiestas.com/fiesta/descenso-de-nabatas-por-el-rio-cinca/
LOCATION:Laspuña\, C/ Bellavista\, 1\, Laspuña\, Huesca\, 22361\, España
CATEGORIES:Costumbres,Día de,Fiestas Populares
ATTACH;FMTTYPE=image/jpeg:https://www.tradicionesyfiestas.com/wp-content/uploads/2015/04/nabateros-evento-destacada.jpg
END:VEVENT
END:VCALENDAR