BEGIN:VCALENDAR
VERSION:2.0
PRODID:-//Fiestas y Tradiciones  - ECPv6.15.11//NONSGML v1.0//EN
CALSCALE:GREGORIAN
METHOD:PUBLISH
X-ORIGINAL-URL:https://www.tradicionesyfiestas.com
X-WR-CALDESC:Eventos para Fiestas y Tradiciones 
REFRESH-INTERVAL;VALUE=DURATION:PT1H
X-Robots-Tag:noindex
X-PUBLISHED-TTL:PT1H
BEGIN:VTIMEZONE
TZID:Europe/Madrid
BEGIN:DAYLIGHT
TZOFFSETFROM:+0100
TZOFFSETTO:+0200
TZNAME:CEST
DTSTART:20250330T010000
END:DAYLIGHT
BEGIN:STANDARD
TZOFFSETFROM:+0200
TZOFFSETTO:+0100
TZNAME:CET
DTSTART:20251026T010000
END:STANDARD
BEGIN:DAYLIGHT
TZOFFSETFROM:+0100
TZOFFSETTO:+0200
TZNAME:CEST
DTSTART:20260329T010000
END:DAYLIGHT
BEGIN:STANDARD
TZOFFSETFROM:+0200
TZOFFSETTO:+0100
TZNAME:CET
DTSTART:20261025T010000
END:STANDARD
BEGIN:DAYLIGHT
TZOFFSETFROM:+0100
TZOFFSETTO:+0200
TZNAME:CEST
DTSTART:20270328T010000
END:DAYLIGHT
BEGIN:STANDARD
TZOFFSETFROM:+0200
TZOFFSETTO:+0100
TZNAME:CET
DTSTART:20271031T010000
END:STANDARD
END:VTIMEZONE
BEGIN:VEVENT
DTSTART;TZID=Europe/Madrid:20260828T100000
DTEND;TZID=Europe/Madrid:20260829T230000
DTSTAMP:20260420T150330
CREATED:20150825T185553Z
LAST-MODIFIED:20251105T144054Z
UID:5513-1787911200-1788044400@www.tradicionesyfiestas.com
SUMMARY:Orhipean de Ochagavía
DESCRIPTION:Dónde y Cuándo\nOrhipean de Ochagavía. 28/08/26 – 29/08/2026 \nOchagavia. Navarra. España. Europa. \nEl Orhipean de Ochagavía o Fiesta de los Oficios y las Tradiciones\, se desarrolla generalmente el viernes y sábado del último fin de semana  de agosto o del primero de septiembre. \nEn 2026 pendiente de confirmación. \nOchagavía / Otsagabia es una localidad de unos 600 habitantes\, situada en la comarca de Roncal/Salazar. En esta comarca surgió la primera Denominación de Origen de España\, el Queso Roncal. \nOrigen…unas píldoras de Historia  \nEl origen de la fiesta del Orhipean\, se encuentra en las diferentes actividades culturales que se organizaban en Ochagavía durante la época estival. Los vecinos de la localidad se plantearon que podían hacer para  hacerlas más atractivas y que la gente local se implicase más. \nEl objetivo era promocionar desde el punto de vista turístico Ochagavía y poner en valor su rico patrimonio cultural. \n La primera edición del Orhipean de Ochagavía o Fiesta de los Oficios y las Tradiciones se celebró en el año 2003. Hoy en día es la Asociación Orhipean Oficios y Tradiciones la encargada de organizar y mantener esta fiesta. \nLa fiesta consiste en dar un paso atrás y trasladarse a un día cualquiera de hace 100 años. De esta forma\, cada año la localidad retrocede durante un fin de semana al modo de vida de esa fecha pero 100 años antes. la Primera edición se recreó la vida en 1903 y en esta se recrea la de 1915. \nQué es / En qué consiste\nTodos los años durante un fin de semana\, se reviven los oficios y las tradiciones que daban vida a la localidad y a la comarca. Todo comienza el viernes a las 21:00 h con el Pregón anunciador que da inicio a la fiesta. Después\, a las 22:00 h se hace una Ronda por las calles del pueblo para ver los preparativos del día siguiente. \nAl día siguiente\, a las 9:30 h\, con el bandeo de campanas comienzan los actos del Orhipean de Ochagavía que duran hasta las 23:00 h de ese mismo día. \nDesde la mañana\, se pueden recorrer las calles de Ochagavia / Otsagabia para contemplar cómo el pueblo ha viajado 100 años atrás. \nPor las calles del pueblo se pueden ver diferentes oficios desde: Lavanderas en el rio\, hilanderas hilando\, como se hacía la trilla o una Matatxerri o Matanza. Ver la elaboración de queso o de pan es otra de las posibilidades durante este día. \nAdemás\, se pueden visitar diferentes edificios como la iglesia\, la escuela\, la taberna o  una tienda donde comprar productos de la época. Ver como trabajaban los pastores o como era la trilla en la Era son otras de las opciones. \nUn variado mercado artesano sirve como complemento a todos los oficios y tradiciones que en el Orhipean de Ochagavía se muestran. \nOrhipean de Ochagavía: curiosidades\nComo dato curioso\, te comentaré que es un auténtico viaje al pasado ya que se tapan con sacos todas las señales de tráfico o cualquier elemento que pueda hacer referencia a la época actual. \nOrhipean de Ochagavía: información práctica\nActividades: visitar la Selva de Irati o la Antigua Fábrica de Armas de Orbaizeta o las Foces de Lumbier y Arbayun. Realizar cualquiera de las muchas rutas de senderismo que se pueden hacer por la zona. Puedes comer en alguno de los mejores restaurantes de la zona y dormir en cualquiera de los cómodos alojamientos disponibles. \nSi quieres ampliar información puedes visitar la web de Turismo de Navarra \n 
URL:https://www.tradicionesyfiestas.com/fiesta/orhipean-de-ochagavia/
LOCATION:Ochagavía\, c/ Arbea s/n\, Ochagavía\, Navarra\, 31680\, España
CATEGORIES:Costumbres,Día de,Fiestas Populares,Oficios
ATTACH;FMTTYPE=image/jpeg:https://www.tradicionesyfiestas.com/wp-content/uploads/2015/08/cabecera-evento-orhipean.jpg
END:VEVENT
END:VCALENDAR