BEGIN:VCALENDAR
VERSION:2.0
PRODID:-//Fiestas y Tradiciones  - ECPv6.15.11//NONSGML v1.0//EN
CALSCALE:GREGORIAN
METHOD:PUBLISH
X-ORIGINAL-URL:https://www.tradicionesyfiestas.com
X-WR-CALDESC:Eventos para Fiestas y Tradiciones 
REFRESH-INTERVAL;VALUE=DURATION:PT1H
X-Robots-Tag:noindex
X-PUBLISHED-TTL:PT1H
BEGIN:VTIMEZONE
TZID:Europe/Madrid
BEGIN:DAYLIGHT
TZOFFSETFROM:+0100
TZOFFSETTO:+0200
TZNAME:CEST
DTSTART:20260329T010000
END:DAYLIGHT
BEGIN:STANDARD
TZOFFSETFROM:+0200
TZOFFSETTO:+0100
TZNAME:CET
DTSTART:20261025T010000
END:STANDARD
BEGIN:DAYLIGHT
TZOFFSETFROM:+0100
TZOFFSETTO:+0200
TZNAME:CEST
DTSTART:20270328T010000
END:DAYLIGHT
BEGIN:STANDARD
TZOFFSETFROM:+0200
TZOFFSETTO:+0100
TZNAME:CET
DTSTART:20271031T010000
END:STANDARD
BEGIN:DAYLIGHT
TZOFFSETFROM:+0100
TZOFFSETTO:+0200
TZNAME:CEST
DTSTART:20280326T010000
END:DAYLIGHT
BEGIN:STANDARD
TZOFFSETFROM:+0200
TZOFFSETTO:+0100
TZNAME:CET
DTSTART:20281029T010000
END:STANDARD
END:VTIMEZONE
BEGIN:VEVENT
DTSTART;TZID=Europe/Madrid:20270117T140000
DTEND;TZID=Europe/Madrid:20270118T193000
DTSTAMP:20260421T024916
CREATED:20141218T111758Z
LAST-MODIFIED:20260206T143630Z
UID:4567-1800194400-1800300600@www.tradicionesyfiestas.com
SUMMARY:Dimonis de Manacor
DESCRIPTION:Dónde y Cuándo\nDimonis de Manacor 17/01/2027 \nManacor. Mallorca. España. Europa. \nLos Dimonis de Manacor se celebran dentro de las fiestas en honor de Sant Antoni Abad en la localidad mallorquina de Manacor. Esta fiesta\, Dimonis de Manacor\, se celebra el 17 de Enero. Manacor es una ciudad de unos 40.000 habitantes\, se encuentra dentro de la comarca de Levante. Es la segunda localidad más poblada de la isla de Mallorca. \nOrigen…unas píldoras de Historia \nEl origen documentado de esta tradición es de los últimos años del siglo XIX concretamente del año 1883\, aunque la celebración a Sant Antoni Abad es anterior. \nUn grupo de tres demonios acompañaba al santo bailando por las calles de la ciudad mientras asustaban a los niños. También se encendían hogueras al paso de la comitiva. \nLa Mirada/Nuestra Mirada\nLas Fiestas de Sant Antoni son las más participativas y queridas de la ciudad. \nSon muchos y variados los actos que tienen lugar durante las fiestas en honor de San Antoni Abad. Quizás los más llamativos sean los que tienen a los dimonis como protagonistas. \nEl día 16 de Enero\, los Dimonis de Manacor hacen su primera aparición a eso de las 14 h. Salen de Casa Baciner e inician un recorrido que les llevará por diferentes puntos de la ciudad. Por la tarde a eso de las 20 h el Dimoni Gros enciende el primer fuego en la plaza de la Rectoría iniciándose así el encendido de todas las hogueras que concursan. Para terminar por la noche con el Ball del Bot. \nAl día siguiente\, 17 de enero festividad de Sant Antoni Abad a eso de las 16 h tiene lugar Les Beneïdes y el Ball del Bot. Después los Dimonis visitan el Hipódromo de Manacor desde donde comienzan un recorrido por distintas calles de la ciudad. A las 19.30 h los Dimonis de Manacor realizan el último Ball de Dimonis. \nDimonis de Manacor: curiosidades\nEl Dimonis Gros\, los dimonis y el Baciner son los personajes principales de estas fiestas. \nDimonis de Manacor: información Práctica\nActividades: visitar las numerosas calas vírgenes que existen entre S’Estany d’en Mas y Cala Antena\, conocer las Cuevas Dels Hams\, acercarse hasta el pintoresco pueblo de Porto Cristo\, disfrutar ricos manjares en cualquiera de los magníficos restaurantes de la ciudad y dormir en alguno de los alojamientos de la zona. \nSi quieres ampliar la información turística visita la web de Visit Manacor. \n“La foto de cabecera y la foto que ilustra este evento se han publicado bajo licencia Creative Commons en el Flickr de Potti Luna«
URL:https://www.tradicionesyfiestas.com/fiesta/dimonis-de-manacor/
LOCATION:Manacor\, c/ Del Convent\, s/n\, Manacor\, Islas Baleares\, 07500\, España
CATEGORIES:Día de,Fiestas Populares
ATTACH;FMTTYPE=image/jpeg:https://www.tradicionesyfiestas.com/wp-content/uploads/2014/12/dimonis-de-manacor-cabecera-blog.jpg
END:VEVENT
END:VCALENDAR