BEGIN:VCALENDAR
VERSION:2.0
PRODID:-//Fiestas y Tradiciones  - ECPv6.15.11//NONSGML v1.0//EN
CALSCALE:GREGORIAN
METHOD:PUBLISH
X-WR-CALNAME:Fiestas y Tradiciones 
X-ORIGINAL-URL:https://www.tradicionesyfiestas.com
X-WR-CALDESC:Eventos para Fiestas y Tradiciones 
REFRESH-INTERVAL;VALUE=DURATION:PT1H
X-Robots-Tag:noindex
X-PUBLISHED-TTL:PT1H
BEGIN:VTIMEZONE
TZID:Europe/Madrid
BEGIN:DAYLIGHT
TZOFFSETFROM:+0100
TZOFFSETTO:+0200
TZNAME:CEST
DTSTART:20250330T010000
END:DAYLIGHT
BEGIN:STANDARD
TZOFFSETFROM:+0200
TZOFFSETTO:+0100
TZNAME:CET
DTSTART:20251026T010000
END:STANDARD
BEGIN:DAYLIGHT
TZOFFSETFROM:+0100
TZOFFSETTO:+0200
TZNAME:CEST
DTSTART:20260329T010000
END:DAYLIGHT
BEGIN:STANDARD
TZOFFSETFROM:+0200
TZOFFSETTO:+0100
TZNAME:CET
DTSTART:20261025T010000
END:STANDARD
BEGIN:DAYLIGHT
TZOFFSETFROM:+0100
TZOFFSETTO:+0200
TZNAME:CEST
DTSTART:20270328T010000
END:DAYLIGHT
BEGIN:STANDARD
TZOFFSETFROM:+0200
TZOFFSETTO:+0100
TZNAME:CET
DTSTART:20271031T010000
END:STANDARD
END:VTIMEZONE
BEGIN:VEVENT
DTSTART;TZID=Europe/Madrid:20261015T120000
DTEND;TZID=Europe/Madrid:20261206T210000
DTSTAMP:20260419T182654
CREATED:20141127T140725Z
LAST-MODIFIED:20260116T145342Z
UID:4482-1792065600-1796590800@www.tradicionesyfiestas.com
SUMMARY:Otoñada en el Valle del Jerte
DESCRIPTION:Dónde y Cuándo\nOtoñada en el Valle del Jerte. \nValle del Jerte. Cáceres. España. Europa. \nLa Otoñada en el Valle del Jerte\, es una fiesta que se celebra de forma especial\, generalmente\, desde el mes de noviembre hasta mediados de diciembre\, en todo el Valle del Jerte. Es una celebración llena de actos; festivos\, culturales\, deportivos y gastronómicos. \nEn 2026 pendiente de confirmación. \nEl Valle del Jerte es una comarca compuesta por 11 municipios con una población total de unos 11.000 habitantes. \nOrigen… unas píldoras de Historia  \nLa Otoñada en el Valle del Jerte se celebra desde el año 2003 cuando se creó un programa cargado de actividades con la intención de disfrutar de la belleza del otoño de una forma especial. \nEn su día se proyectaron diferentes actividades con el fin de atraer turismo en esta época del año y como el resultado fue muy satisfactorio la fiesta se programó con una periodicidad anual. \nQué es / En qué consiste\nLas amplias y variadas propuestas que se organizan buscan la participación y el disfrute de todos y todas\, tanto de los habitantes de la comarca como de quienes la visitan. \nDurante las fechas de la Otoñada se celebran en los 11 municipios del Valle del Jerte una gran variedad de actividades que van desde lo cultural a lo gastronómico. También se puede disfrutar de dientes tradiciones y manifestaciones de folclore. \nEntre las celebraciones más importantes cabe destacar la «Fiesta de la Caída de la Hoja» \, la «Toña Piornalega» en Piornal\, las «Jornadas Gastronómicas Pastoriles» en los restaurantes de la zona. También tienen mucha relevancia las jornadas «Pastores en Otoño«\, «Otoño Celta»\, «Otoño a caballo» y «Estampa de Tradiciones». \nUn mercado medieval y un festival folclórico además de actividades deportivas completan esta celebración para poner en valor una época del año. \nOtoñada en el Valle del Jerte: curiosidades\nComo dato curioso\, contarte que durante este mes y medio que dura la Otoñada en el Valle del Jerte son más de 30 eventos los que se realizan. \nOtoñada en el Valle del Jerte: información práctica\nActividades: Descubrir las numerosas Gargantas del Valle del Jerte\, conocer sus diferentes museos y centros de interpretación\, vivir la tradición del Jarramplas\, o comer en alguno de los mejores restaurantes de la zona y dormir en cualquiera de los cómodos alojamientos disponibles. \nSi quieres ampliar la información turística\, visita la web de la Sociedad para la Promoción del Valle del Jerte.
URL:https://www.tradicionesyfiestas.com/fiesta/otonada-en-el-valle-del-jerte/
LOCATION:Valle del Jerte\, Cáceres\, España
CATEGORIES:Feria y Fiestas,Festival/Festival Folclórico,Fiestas Populares
ATTACH;FMTTYPE=image/jpeg:https://www.tradicionesyfiestas.com/wp-content/uploads/2014/11/otoñada-evento-cabecera.jpg
END:VEVENT
BEGIN:VEVENT
DTSTART;TZID=Europe/Madrid:20261113T120000
DTEND;TZID=Europe/Madrid:20261115T140000
DTSTAMP:20260419T182654
CREATED:20141105T162812Z
LAST-MODIFIED:20251128T154750Z
UID:4173-1794571200-1794751200@www.tradicionesyfiestas.com
SUMMARY:Fiesta del Orujo en Potes
DESCRIPTION:  \n \nDónde y Cuándo\nFiesta del Orujo en Potes. \nPotes. Cantabria. España. Europa. 13/11/2026 – 15/11/2026 \nLa Fiesta del Orujo en Potes se celebra el segundo fin de semana de Noviembre en esta bella  localidad cántabra. Es una celebración llena de actos para poner en valor un licor tan propio de la región como es el Orujo. Durante todo el fin de semana\, el Orujo es el protagonista en este pueblo del norte de España. \nPotes es una localidad de unos 1500 habitantes\, perteneciente a la comunidad de Cantabria\, situada en la Comarca de Liébana de la que es capital. \nOrigen… unas píldoras de Historia  \nLa Fiesta del Orujo en Potes\, tiene su origen en el año 1984 cuando la comisión organizadora de la Fiesta del Aguardiente quiso explicar y dar a conocer el complejo proceso de elaboración del Orujo lebaniego. También se quería destacar que para elaborar el Orujo cántabro se utilizaban alquitaras en lugar de alambiques como en el orujo gallego. \nFue declarada Fiesta de Interés Turístico Nacional en el año 2012. \nQué es / En qué consiste\nEl sentido de la fiesta del Orujo consiste en la destilación pública y posterior degustación del Orujo\, en las calles de Potes. \nEl Orujo se elabora a partir de hollejos de uva que son fermentados y posteriormente destilados. \nSe celebran gran variedad de actos en torno a la Fiesta del Orujo de Potes. Todo comienza el viernes a las 19 h con la música de grupos tradicionales cántabros por las calles de Potes. \nAl día siguiente\, el sábado a 12:30h\, se lleva a cabo la Recepción del Orujero Mayor. Por la tarde\, es la proclamación de dicho Orujero Mayor (cada año es un personaje singular\, entre ellos destacan Eduardo Noriega\, Ruth Beitia\, David Bustamante o Juan Ramón Lucas). \nEl día se completa con diversos actos entre los que destacan la Degustación de Orujo y una Cata comentada. \nYa el domingo por la mañana\, se encienden las alquitaras para después de las 12:30h entregar el premio Alquitara de Oro. \nFiesta del Orujo en Potes: curiosidades\nComo dato curioso\, contarte que entre los años 1986 y 1993 la Fiesta del Orujo en Potes no se celebró debido a una nueva ley en materia de alcohol\, que prohibía la destilación casera\, pero desde 1994 se consiguió un permiso especial y se celebra el segundo fin de semana de Noviembre. \nTodo el Orujo que se destila durante la fiesta debe ser consumido durante la misma. \nFiesta del Orujo en Potes: información práctica\nActividades: visitar el casco histórico y la torre del Infantado de la villa de Potes y el Centro de Estudios Lebaniegos. Descubrir los Picos de Europa o montar en el teleférico de Fuente Dé. \nPuedes comer en alguno de los mejores restaurantes de la zona y dormir en cualquiera de los cómodos alojamientos disponibles. \nSi quieres ampliar la información turística\, visita la web de Turismo de Cantabria. \n “La foto de cabecera que ilustra este post se han publicado bajo licencia Creative Commons el flickr de SantiMB.
URL:https://www.tradicionesyfiestas.com/fiesta/fiesta-del-orujo-en-potes/
LOCATION:Potes\, c/ San Roque\, 7\, Potes\, Cantabria\, 39570\, España
CATEGORIES:Feria y Fiestas,Fiestas Populares
ATTACH;FMTTYPE=image/jpeg:https://www.tradicionesyfiestas.com/wp-content/uploads/2014/11/monumento-al-orujo-e1570646267635.jpg
END:VEVENT
END:VCALENDAR