BEGIN:VCALENDAR
VERSION:2.0
PRODID:-//Fiestas y Tradiciones  - ECPv6.15.11//NONSGML v1.0//EN
CALSCALE:GREGORIAN
METHOD:PUBLISH
X-ORIGINAL-URL:https://www.tradicionesyfiestas.com
X-WR-CALDESC:Eventos para Fiestas y Tradiciones 
REFRESH-INTERVAL;VALUE=DURATION:PT1H
X-Robots-Tag:noindex
X-PUBLISHED-TTL:PT1H
BEGIN:VTIMEZONE
TZID:Europe/Madrid
BEGIN:DAYLIGHT
TZOFFSETFROM:+0100
TZOFFSETTO:+0200
TZNAME:CEST
DTSTART:20250330T010000
END:DAYLIGHT
BEGIN:STANDARD
TZOFFSETFROM:+0200
TZOFFSETTO:+0100
TZNAME:CET
DTSTART:20251026T010000
END:STANDARD
BEGIN:DAYLIGHT
TZOFFSETFROM:+0100
TZOFFSETTO:+0200
TZNAME:CEST
DTSTART:20260329T010000
END:DAYLIGHT
BEGIN:STANDARD
TZOFFSETFROM:+0200
TZOFFSETTO:+0100
TZNAME:CET
DTSTART:20261025T010000
END:STANDARD
BEGIN:DAYLIGHT
TZOFFSETFROM:+0100
TZOFFSETTO:+0200
TZNAME:CEST
DTSTART:20270328T010000
END:DAYLIGHT
BEGIN:STANDARD
TZOFFSETFROM:+0200
TZOFFSETTO:+0100
TZNAME:CET
DTSTART:20271031T010000
END:STANDARD
END:VTIMEZONE
BEGIN:VEVENT
DTSTART;TZID=Europe/Madrid:20260802T100000
DTEND;TZID=Europe/Madrid:20260802T200000
DTSTAMP:20260419T215812
CREATED:20130529T152545Z
LAST-MODIFIED:20251022T160506Z
UID:975-1785664800-1785700800@www.tradicionesyfiestas.com
SUMMARY:Romería Vikinga de Catoira
DESCRIPTION:Dónde y Cuándo\nRomería Vikinga de Catoira 02/08/2026 \nCatoira. Pontevedra. España. Europa \nLos actos principales de la Romería Vikinga de Catoria se celebran el primer domingo de agosto en la localidad pontevedresa de Catoira. En los últimos años se ha convertido en una de las fiestas más conocidas del verano y cada año su fama va en aumento. \nCatoira es una localidad con cerca de 3.500 habitantes situada en la comarca de Caldas. \nOrigen…unas píldoras de Historia\nSe celebró por primera vez en el año 1960 con la intención de rememorar la importancia de Catoira en la defensa de Galicia frente a los ataques de los piratas normandos y sarracenos que tuvieron lugar en los siglos IX y X en las tierras del rio Ulla. \nFue declarada Fiesta de Interés Turístico Nacional en el Año 1988. \nFue declarada Fiesta de Interés Turístico Internacional en el Año 2002. \nQué es / En qué consiste\nLa semana previa al domingo de celebración de esta fiesta comienzan una serie de actividades de carácter cultural y también lúdico. Presentaciones literarias que guardan relación con la historia de esta celebración y también con el pasado de Catoira. \nTambién se representan diferentes obras teatrales vikingas y se celebran varios conciertos musicales. \nLos actos más destacados de la Romería Vikinga de Catoira son la Cena Vikinga\, en el recinto de las torres del Oeste a partir de las 22 h del sábado. Dos son los requisitos para participar en esta cena; hay que comprar pases en la biblioteca municipal\, se pueden comprar hasta muy pocos días antes. El otro requisito es acudir vestido de vikingo. \nAl día siguiente\, en torno a las 10 h\, comienza un pasacalles desde el centro del pueblo hasta el recinto de las Torres del Oeste. Después tienen lugar el acto más singular y conocido\, el Desembarco Vikingo que se desarrolla a partir de las 13 h del domingo frente a las Torres del Oeste. \nPor la tarde continúan los actos con una representación de títeres y con una actuación musical que pone el punto final a la Romería Vikinga de Catoira. \nRomería Vikinga de Catoira: curiosidades\nComo dato curioso cabe destacar que desde su declaración como fiesta de Interés Turístico Internacional la localidad está hermanada con la localidad danesa de Frederikssund. \nRomería Vikinga de Catoira: información Práctica\nActividades: visitar el Parque Arqueológico de Arte Rupestre de Campo Lameiro\, conocer el Conjunto de Molinos de Barosa formado por 17 molinos tradicionales. Buscar los Petos de Ánimas que se encuentran en la zona de Porrans. Comer en alguno de los mejores restaurantes de la zona y dormir en cualquiera de los alojamientos disponibles \nSi quieres ampliar información puedes visitar la web de Terras de Pontevedra \n“La foto de cabecera y la foto que ilustra este post se han publicado bajo licencia Creative Commons en el picasa  de Fotos con Letra«
URL:https://www.tradicionesyfiestas.com/fiesta/romeria-vikinga-de-catoira/
LOCATION:Catoira\, c/ Concello\, 6\, Catoira\, Pontevedra\, 36612\, España
CATEGORIES:Día de,Fiestas Populares,Romería
ATTACH;FMTTYPE=image/jpeg:https://www.tradicionesyfiestas.com/wp-content/uploads/2013/05/romeria-vikinga-de-catoira-cabecera.jpg
END:VEVENT
BEGIN:VEVENT
DTSTART;TZID=Europe/Madrid:20260814T100000
DTEND;TZID=Europe/Madrid:20260815T170000
DTSTAMP:20260419T215812
CREATED:20141030T145654Z
LAST-MODIFIED:20251022T161220Z
UID:4106-1786701600-1786813200@www.tradicionesyfiestas.com
SUMMARY:El Misterio de Elche
DESCRIPTION:Dónde y Cuándo\nEl Misterio de Elche. 14/08/2026 – 15/08/2026  \nEleche. Alicante. España. Europa. \nEl Misterio de Elche es una Obra Maestra del Patrimonio Oral e Inmaterial de la Humanidad que se representa todos los años en la Basílica de Santa María de Elche. \nDe forma ordinaria se celebra todos los años en el mes de agosto. El día 14 a las 18h se celebra la Vespra y el día 15 a las 18h la Festa. De forma extraordinaria se celebra también los años pares el 1 de noviembre a las 10h la Vespra y a las 17 h la Festa. \nElche es una ciudad de unos 230.000 habitantes\, perteneciente a la Comunidad Valenciana\, dentro de la provincia de Alicante\, situada en la Comarca del Bajo Vinalopó. \nOrigen… unas píldoras de Historia  \nNo existe una fecha concreta para determinar el origen documentado del Misteri d´Elx. Existen dos tradiciones que han intentado explicar el origen de esta fiesta. Por un lado se vincula con la conquista cristiana de la ciudad en el año 1265 a los musulmanes. Por otro lado\, se cree que tiene un origen milagroso relacionado con la aparición de la Virgen en el año 1370. \nFue declarada Fiesta de Interés Turístico Nacional en el año 1965. \nEn el año 2001 fue declarado como Obra Maestra del Patrimonio Oral e Inmaterial de la Humanidad. \nQué es / En qué consiste\nAunque se celebran representaciones completas a modo de ensayo general los días 11\, 12 y 13 de agosto\, los actos más importantes son la Vespra y la Festa\, durante los días; 14 y 15 de agosto. De forma extraordinaria se celebra también los años pares  el día 1 de noviembre. También hay ensayos generales que pueden ser visitados los días 29 y 30 de octubre. \nEsta obra de origen medieval representa los momentos de dormición\, asunción a los cielos y coronación de la Virgen María. \nDos son los actos en los que se divide el Misterio de Elche: el primero «La Vespra» o Víspera y «La Festa»o Fiesta.  En el primero\, la Virgen y su cortejo entran a la basílica y reciben el anuncio de un ángel que baja del cielo de que se acerca su muerte. Los apóstoles la acompañan en sus últimos momentos. \nEn el segundo\, se inician los preparativos para el sepelio de la Virgen\, pero un grupo de judíos intenta impedirlo encontrando la oposición de los apóstoles. Desciende del cielo Araceli para unir el cuerpo y el alma de la Virgen. \nEl Misterio de Elche: curiosidades\nComo dato curioso\, contarte que se existe una App para móviles que permite seguir las representaciones del Misterio de Elche en tiempo real desde cualquier parte del mundo. \nEl Misterio de Elche: información práctica\nActividades: visitar el Palmeral de Elche y el Jardín del Huerto del Cura. También puedes ver el Museo Arqueológico y de Historia MAHE. Otros museos para visitar son el de la Festa y el de Arte Contemporáneo. Conocer la Alcudia\, el lugar donde se descubrió la imagen de la Dama de Elche. \nPuedes comer en alguno de los mejores restaurantes de la zona y dormir en cualquiera de los cómodos alojamientos disponibles. \nSi quieres ampliar la información turística\, visita la web de turismo de Elche \n “La foto de cabecera y la foto que ilustra este post se han publicado bajo licencia Creative Commons en nuestra cuenta de flickr«.
URL:https://www.tradicionesyfiestas.com/fiesta/el-misterio-de-elche/
LOCATION:Elche\, Basílica de Santa Maria\, Elche\, Alicante\, 03202\, España
CATEGORIES:Escenificación,Fiestas Religiosas
ATTACH;FMTTYPE=image/jpeg:https://www.tradicionesyfiestas.com/wp-content/uploads/2014/10/misterio-de-elche-cabecera-evento.jpg
END:VEVENT
END:VCALENDAR