BEGIN:VCALENDAR
VERSION:2.0
PRODID:-//Fiestas y Tradiciones  - ECPv6.15.11//NONSGML v1.0//EN
CALSCALE:GREGORIAN
METHOD:PUBLISH
X-WR-CALNAME:Fiestas y Tradiciones 
X-ORIGINAL-URL:https://www.tradicionesyfiestas.com
X-WR-CALDESC:Eventos para Fiestas y Tradiciones 
REFRESH-INTERVAL;VALUE=DURATION:PT1H
X-Robots-Tag:noindex
X-PUBLISHED-TTL:PT1H
BEGIN:VTIMEZONE
TZID:Europe/Madrid
BEGIN:DAYLIGHT
TZOFFSETFROM:+0100
TZOFFSETTO:+0200
TZNAME:CEST
DTSTART:20250330T010000
END:DAYLIGHT
BEGIN:STANDARD
TZOFFSETFROM:+0200
TZOFFSETTO:+0100
TZNAME:CET
DTSTART:20251026T010000
END:STANDARD
BEGIN:DAYLIGHT
TZOFFSETFROM:+0100
TZOFFSETTO:+0200
TZNAME:CEST
DTSTART:20260329T010000
END:DAYLIGHT
BEGIN:STANDARD
TZOFFSETFROM:+0200
TZOFFSETTO:+0100
TZNAME:CET
DTSTART:20261025T010000
END:STANDARD
BEGIN:DAYLIGHT
TZOFFSETFROM:+0100
TZOFFSETTO:+0200
TZNAME:CEST
DTSTART:20270328T010000
END:DAYLIGHT
BEGIN:STANDARD
TZOFFSETFROM:+0200
TZOFFSETTO:+0100
TZNAME:CET
DTSTART:20271031T010000
END:STANDARD
END:VTIMEZONE
BEGIN:VEVENT
DTSTART;TZID=Europe/Madrid:20260315T000000
DTEND;TZID=Europe/Madrid:20260501T235900
DTSTAMP:20260414T205259
CREATED:20150213T100227Z
LAST-MODIFIED:20250502T133106Z
UID:4917-1773532800-1777679940@www.tradicionesyfiestas.com
SUMMARY:La Passió de Esparreguera
DESCRIPTION:Dónde y Cuándo\nLa Passió de Esparreguera 15/03/2026 – 01/05/2026 \nEsparreguera. Barcelona. España. Europa. \nLa Passió de Esparreguera\, se desarrolla todos los años\, generalmente los domingos y algún viernes\, entre la primera semana de marzo y la primera de mayo. El día de Viernes Santo se celebra una representación especial. En 2026 se celebra del 15 de marzo al 1 de mayo. \nEsparreguera es una localidad barcelonesa de unos 22.000 habitantes\, situada en la Comarca del Baix Llobregat que destaca por tener una rica y variada agricultura. \nOrigen…unas píldoras de Historia  \nEl origen documentado de la Passió de Esparreguera se encuentra en la existencia de una carta del año 1611\, en la que unos vecinos de la localidad de Sant Llorenç d´Hortons\, anuncian a unos familiares de Esparreguera\, que irán al pueblo para ver la Passió. \nDurante muchos años se deja de celebrar hasta que en el año 1860\, se vuelven a recuperar las escenificaciones\, creando la etapa histórica que llega hasta nuestros días. En 1969 se inauguró el Teatro de la Passió espacio donde tienen lugar las representaciones. \nFue declarada Fiesta de Interés Turístico Internacional en el año 1983. \nQué es / En qué consiste \nEl espectáculo de la Passió de Esparreguera\, está compuesto por una estructura original que se representa a lo largo de 35 escenas\, que se dividen en dos partes; la primera por la mañana y la segunda por la tarde. \nSe desarrollan en el Teatro de la Passió que fue expresamente construido para las representaciones. Cuenta con una capacidad para casi 1.800 personas. \nLa música cobra gran importancia a lo largo de la representación. Medio centenar de voces\, componen el coro y 30 músicos forman la orquesta que junto con el órgano\, aportan un toque que la diferencia de otras pasiones. \nEn la primera parte\, compuesta de dos actos\, se representan las escenas de la «Vida Pública de Jesús«. \nEn la segunda parte\, compuesta también por dos actos\, se representan las escenas de la «Pasión\, Muerte y Resurrección«. \nLa Passió de Esparreguera: curiosidades\nComo dato curioso\, te comentaré que son 100 los Personajes que salen en la representación\, además de 400 figurantes\, hasta llegar al millar de personas en total que participan en la representación. \nLa Passió de Esparreguera: información práctica\nActividades: visitar la Cueva del Patrac y la Iglesia del Santa María del Puig\, la Reserva Natural del Delta del LLobregat o el Museo Agbar de las Aguas. Puedes comer en alguno de los mejores restaurantes de la zona y dormir en cualquiera de los cómodos alojamientos disponibles. \nSi quieres ampliar información puedes visitar la web de Turisme del Baix Llobregat. \n “La foto de cabecera y la foto que ilustra este evento se han publicado gracias a la Passió de Esparreguera «( Cortesía de La Passió )
URL:https://www.tradicionesyfiestas.com/fiesta/la-passio-de-esparreguera/
LOCATION:Esparreguera\, Avinguda Francesc Marimón\, 83\, Esparreguera\, Barcelona\, 08292\, España
CATEGORIES:Escenificación,Fiestas Religiosas
ATTACH;FMTTYPE=image/jpeg:https://www.tradicionesyfiestas.com/wp-content/uploads/2015/02/passio-de-Esparreguera-cabecera-evento.jpg
END:VEVENT
BEGIN:VEVENT
DTSTART;TZID=Europe/Madrid:20260329T120000
DTEND;TZID=Europe/Madrid:20260405T210000
DTSTAMP:20260414T205259
CREATED:20150209T135132Z
LAST-MODIFIED:20250421T074021Z
UID:4888-1774785600-1775422800@www.tradicionesyfiestas.com
SUMMARY:Semana Santa en Sevilla
DESCRIPTION:Dónde y Cuándo\nSemana Santa en Sevilla 29/03/2026 – 05/04/2026 \nSevilla. Andalucía. España. Europa. \nLa Semana Santa en Sevilla\, (una de las celebraciones más reconocidas fuera de España) se desarrolla todos los años entre el Domingo de Ramos y el Domingo de Resurrección. Algunas cofradías se adelantan y salen ya el Viernes de Dolor y el Sábado de Pasión. En 2026 la Semana Santa en Sevilla será entre el 29 de marzo y 5 de abril. \nSevilla es una ciudad de unos 700.000 habitantes con una población en su área metropolitana de casi 1.500.000 habitantes lo que la convierte en la cuarta área metropolitana de España. Es la capital de la Comunidad Autónoma de Andalucía. \nOrigen…unas píldoras de Historia  \nEl origen de las Cofradías de Semana Santa o de Pasión es del siglo XVI cuando los fieles\, generalmente laicos\, se organizaban para ver la Pasión y Muerte de Cristo y también para reproducir los dolores de Cristo en su Pasión y Muerte a través de actos penitenciales. \nDurante buena parte del siglo XIX las Cofradías perdieron fuerza hasta que a finales del mismo se volvieron a recuperar. \nFue declarada Fiesta de Interés Turístico Internacional en el año 1980. \nLa Mirada/ Nuestra Mirada\nCada día desde el Viernes de Dolor o el Sábado de Pasión hasta el Domingo de Resurrección todas las cofradías recorren las calles de Sevilla desde sus iglesias hasta la catedral. A las cofradías que salen antes del Domingo de Resurrección se las conoce como cofradías de vísperas. Para la gran mayoría de cofradías o hermandades la Semana Santa comienza el Domingo de Ramos. \nEl recorrido que deben hacer todas las cofradías se conoce como Carrera Oficial y lo marca el Consejo de Hermandades y Cofradías de Sevilla. La Carrera Oficial comienza en la Plaza de la Campana y termina en la Catedral. Todas las Cofradías al iniciar su recorrido deben pedir La Venia que les permite iniciar su «estación de penitencia». \nLos Pasos y su imaginería son el centro de todas y cada una de las procesiones que se celebran estos días. La Cruz de Guía\, el Capataz\, los Nazarenos y los Costaleros son parte importante de la Semana Santa en Sevilla. \nEl Gran Poder\, La Macarena y La Esperanza de Triana son algunas de las Cofradías más conocidas. \nSemana Santa en Sevilla: curiosidades\nComo dato curioso\, te comentaré que son 72 las Cofradías y Hermandades que salen en procesión durante la Semana Santa en Sevilla. Domingo de Ramos\, Lunes Santo y Miércoles Santo son los días con mayor numero de procesiones. \nEn Viernes Santo por la noche también procesionan algunas cofradías. \nSemana Santa en Sevilla: información práctica\nActividades: visitar las Basílicas de la Macarena y del Gran Poder\, el Real Alcázar de Sevilla o el Mercado de Triana. Puedes comer en alguno de los mejores restaurantes de la zona y dormir en cualquiera de los cómodos alojamientos disponibles. \nSi quieres ampliar información puedes visitar la web de Visita Sevilla \n“La foto de cabecera y la foto que ilustra este evento se han publicado bajo licencia Creative Commons en el Flickr de Wingpix «
URL:https://www.tradicionesyfiestas.com/fiesta/semana-santa-en-sevilla/
LOCATION:Sevilla\, Avenida de la Constitución s/n\, Sevilla\, Sevilla\, 41004\, España
CATEGORIES:Fiestas Religiosas,Procesión
ATTACH;FMTTYPE=image/jpeg:https://www.tradicionesyfiestas.com/wp-content/uploads/2015/02/semana-santa-sevilla-evento2.jpg
END:VEVENT
BEGIN:VEVENT
DTSTART;TZID=Europe/Madrid:20260401T203000
DTEND;TZID=Europe/Madrid:20260401T233000
DTSTAMP:20260414T205259
CREATED:20150220T100541Z
LAST-MODIFIED:20250421T074153Z
UID:4954-1775075400-1775086200@www.tradicionesyfiestas.com
SUMMARY:Representación de la Pasión de Cristo en Tudela
DESCRIPTION:Dónde y Cuándo\nRepresentación de la Pasión de Cristo en Tudela 01/04/2026 \nTudela. Navarra. España. Europa. \nLa Representación de la Pasión de Cristo en Tudela\,  se celebra todos los años el Miércoles Santo a las 20:30 h. En 2026\, la Escenificación tendrá lugar el día 1 de abril. \nTudela es una ciudad de unos 35.000 habitantes\, situada en la Comarca o Merindad de la Ribera Navarra. Tudela tiene un importante pasado histórico marcado por la influencia las tres culturas. \nOrigen…unas píldoras de Historia  \nEl origen de esta joven celebración es del año 2001\, cuando la Hermandad de la Pasión Viviente de Tudela con su secretaria Merche Pérez a la cabeza\, decidieron organizar este acto. \nLa unión de la observación de otras escenificaciones de la Pasión a lo largo del país y el incomparable marco del bello casco antiguo de Tudela\, dieron lugar a la Representación de la Pasión de Cristo en Tudela. \nEn unos pocos años\, esta conmemoración se ha convertido en uno de los actos más queridos de la Semana Santa Tudelana\, junto al Volatín y la Bajada del Ángel. \nLa Mirada/ Nuestra Mirada\nEl Miércoles Santo ya por la tarde\, con los diferentes escenarios y calles preparadas\, comienza la Representación de la Pasión de Cristo en Tudela a las 20:30 h. \nSon 7 los actos que representan la Pasión de Nuestro Señor\, a lo largo de varios lugares estratégicamente situados en la parte vieja de Tudela. En el primero\, se representa la Entrada a Jerusalén\, en la calle bóveda. Continua con la escenificación de la Última Cena\, en la plaza del Mercadal. \nSin perder la emoción\, el siguiente acto es la Oración en el Huerto de los Olivos\, en la Plaza del Liceo. En la Plaza de Yehuda Ha Leví\, tiene lugar el Juicio del Sanedrín y las Negaciones de Pedro. \nLos últimos tres actos son: el Juicio ante Poncio Pilato\, a lo largo de la Plaza Vieja. Después se representa el Camino del Calvario\, a lo largo de la Plaza Vieja\, Pontarrón y Portal. \nPara terminar con uno de los momentos más espectaculares como es la Crucifixión\, Muerte y Resurrección de Jesús junto a la Iglesia de la Magdalena. \nRepresentación de la Pasión de Cristo en Tudela: curiosidades\nComo dato curioso\, te comentaré que son prácticamente las mismas 100 personas que cuando empezaron las que dan vida a los personajes de la Escenificación de la Pasión de Cristo de Tudela. \nRepresentación de la Pasión de Cristo en Tudela: información práctica\nActividades: pasear por el Casco Antiguo de Tudela y admirar la influencia en sus calles de las tres culturas. Visitar la Catedral y su famosa Puerta del Juicio. Conocer el Parque Natural de Bardenas Reales. Puedes comer en alguno de los mejores restaurantes de la zona y dormir en cualquiera de los cómodos alojamientos disponibles. \nSi quieres ampliar información puedes visitar la web de Turismo de Navarra \n“La foto de cabecera y la foto que ilustra este artículo han publicado gracias a la Asociación de Cofradías de Tudela.”
URL:https://www.tradicionesyfiestas.com/fiesta/representacion-de-la-pasion-de-cristo-en-tudela/
LOCATION:Tudela\, Plaza de los Fueros\, 1\, Tudela\, Navarra\, 31500\, España
CATEGORIES:Escenificación,Fiestas Religiosas
ATTACH;FMTTYPE=image/jpeg:https://www.tradicionesyfiestas.com/wp-content/uploads/2014/04/escenificacion-tudela-cabecera.jpg
END:VEVENT
END:VCALENDAR