BEGIN:VCALENDAR
VERSION:2.0
PRODID:-//Fiestas y Tradiciones  - ECPv6.15.11//NONSGML v1.0//EN
CALSCALE:GREGORIAN
METHOD:PUBLISH
X-ORIGINAL-URL:https://www.tradicionesyfiestas.com
X-WR-CALDESC:Eventos para Fiestas y Tradiciones 
REFRESH-INTERVAL;VALUE=DURATION:PT1H
X-Robots-Tag:noindex
X-PUBLISHED-TTL:PT1H
BEGIN:VTIMEZONE
TZID:Europe/Madrid
BEGIN:DAYLIGHT
TZOFFSETFROM:+0100
TZOFFSETTO:+0200
TZNAME:CEST
DTSTART:20250330T010000
END:DAYLIGHT
BEGIN:STANDARD
TZOFFSETFROM:+0200
TZOFFSETTO:+0100
TZNAME:CET
DTSTART:20251026T010000
END:STANDARD
BEGIN:DAYLIGHT
TZOFFSETFROM:+0100
TZOFFSETTO:+0200
TZNAME:CEST
DTSTART:20260329T010000
END:DAYLIGHT
BEGIN:STANDARD
TZOFFSETFROM:+0200
TZOFFSETTO:+0100
TZNAME:CET
DTSTART:20261025T010000
END:STANDARD
BEGIN:DAYLIGHT
TZOFFSETFROM:+0100
TZOFFSETTO:+0200
TZNAME:CEST
DTSTART:20270328T010000
END:DAYLIGHT
BEGIN:STANDARD
TZOFFSETFROM:+0200
TZOFFSETTO:+0100
TZNAME:CET
DTSTART:20271031T010000
END:STANDARD
END:VTIMEZONE
BEGIN:VEVENT
DTSTART;TZID=Europe/Madrid:20260315T000000
DTEND;TZID=Europe/Madrid:20260501T235900
DTSTAMP:20260414T214634
CREATED:20150213T100227Z
LAST-MODIFIED:20250502T133106Z
UID:4917-1773532800-1777679940@www.tradicionesyfiestas.com
SUMMARY:La Passió de Esparreguera
DESCRIPTION:Dónde y Cuándo\nLa Passió de Esparreguera 15/03/2026 – 01/05/2026 \nEsparreguera. Barcelona. España. Europa. \nLa Passió de Esparreguera\, se desarrolla todos los años\, generalmente los domingos y algún viernes\, entre la primera semana de marzo y la primera de mayo. El día de Viernes Santo se celebra una representación especial. En 2026 se celebra del 15 de marzo al 1 de mayo. \nEsparreguera es una localidad barcelonesa de unos 22.000 habitantes\, situada en la Comarca del Baix Llobregat que destaca por tener una rica y variada agricultura. \nOrigen…unas píldoras de Historia  \nEl origen documentado de la Passió de Esparreguera se encuentra en la existencia de una carta del año 1611\, en la que unos vecinos de la localidad de Sant Llorenç d´Hortons\, anuncian a unos familiares de Esparreguera\, que irán al pueblo para ver la Passió. \nDurante muchos años se deja de celebrar hasta que en el año 1860\, se vuelven a recuperar las escenificaciones\, creando la etapa histórica que llega hasta nuestros días. En 1969 se inauguró el Teatro de la Passió espacio donde tienen lugar las representaciones. \nFue declarada Fiesta de Interés Turístico Internacional en el año 1983. \nQué es / En qué consiste \nEl espectáculo de la Passió de Esparreguera\, está compuesto por una estructura original que se representa a lo largo de 35 escenas\, que se dividen en dos partes; la primera por la mañana y la segunda por la tarde. \nSe desarrollan en el Teatro de la Passió que fue expresamente construido para las representaciones. Cuenta con una capacidad para casi 1.800 personas. \nLa música cobra gran importancia a lo largo de la representación. Medio centenar de voces\, componen el coro y 30 músicos forman la orquesta que junto con el órgano\, aportan un toque que la diferencia de otras pasiones. \nEn la primera parte\, compuesta de dos actos\, se representan las escenas de la «Vida Pública de Jesús«. \nEn la segunda parte\, compuesta también por dos actos\, se representan las escenas de la «Pasión\, Muerte y Resurrección«. \nLa Passió de Esparreguera: curiosidades\nComo dato curioso\, te comentaré que son 100 los Personajes que salen en la representación\, además de 400 figurantes\, hasta llegar al millar de personas en total que participan en la representación. \nLa Passió de Esparreguera: información práctica\nActividades: visitar la Cueva del Patrac y la Iglesia del Santa María del Puig\, la Reserva Natural del Delta del LLobregat o el Museo Agbar de las Aguas. Puedes comer en alguno de los mejores restaurantes de la zona y dormir en cualquiera de los cómodos alojamientos disponibles. \nSi quieres ampliar información puedes visitar la web de Turisme del Baix Llobregat. \n “La foto de cabecera y la foto que ilustra este evento se han publicado gracias a la Passió de Esparreguera «( Cortesía de La Passió )
URL:https://www.tradicionesyfiestas.com/fiesta/la-passio-de-esparreguera/
LOCATION:Esparreguera\, Avinguda Francesc Marimón\, 83\, Esparreguera\, Barcelona\, 08292\, España
CATEGORIES:Escenificación,Fiestas Religiosas
ATTACH;FMTTYPE=image/jpeg:https://www.tradicionesyfiestas.com/wp-content/uploads/2015/02/passio-de-Esparreguera-cabecera-evento.jpg
END:VEVENT
BEGIN:VEVENT
DTSTART;TZID=Europe/Madrid:20260329T120000
DTEND;TZID=Europe/Madrid:20260405T210000
DTSTAMP:20260414T214634
CREATED:20150209T135132Z
LAST-MODIFIED:20250421T074021Z
UID:4888-1774785600-1775422800@www.tradicionesyfiestas.com
SUMMARY:Semana Santa en Sevilla
DESCRIPTION:Dónde y Cuándo\nSemana Santa en Sevilla 29/03/2026 – 05/04/2026 \nSevilla. Andalucía. España. Europa. \nLa Semana Santa en Sevilla\, (una de las celebraciones más reconocidas fuera de España) se desarrolla todos los años entre el Domingo de Ramos y el Domingo de Resurrección. Algunas cofradías se adelantan y salen ya el Viernes de Dolor y el Sábado de Pasión. En 2026 la Semana Santa en Sevilla será entre el 29 de marzo y 5 de abril. \nSevilla es una ciudad de unos 700.000 habitantes con una población en su área metropolitana de casi 1.500.000 habitantes lo que la convierte en la cuarta área metropolitana de España. Es la capital de la Comunidad Autónoma de Andalucía. \nOrigen…unas píldoras de Historia  \nEl origen de las Cofradías de Semana Santa o de Pasión es del siglo XVI cuando los fieles\, generalmente laicos\, se organizaban para ver la Pasión y Muerte de Cristo y también para reproducir los dolores de Cristo en su Pasión y Muerte a través de actos penitenciales. \nDurante buena parte del siglo XIX las Cofradías perdieron fuerza hasta que a finales del mismo se volvieron a recuperar. \nFue declarada Fiesta de Interés Turístico Internacional en el año 1980. \nLa Mirada/ Nuestra Mirada\nCada día desde el Viernes de Dolor o el Sábado de Pasión hasta el Domingo de Resurrección todas las cofradías recorren las calles de Sevilla desde sus iglesias hasta la catedral. A las cofradías que salen antes del Domingo de Resurrección se las conoce como cofradías de vísperas. Para la gran mayoría de cofradías o hermandades la Semana Santa comienza el Domingo de Ramos. \nEl recorrido que deben hacer todas las cofradías se conoce como Carrera Oficial y lo marca el Consejo de Hermandades y Cofradías de Sevilla. La Carrera Oficial comienza en la Plaza de la Campana y termina en la Catedral. Todas las Cofradías al iniciar su recorrido deben pedir La Venia que les permite iniciar su «estación de penitencia». \nLos Pasos y su imaginería son el centro de todas y cada una de las procesiones que se celebran estos días. La Cruz de Guía\, el Capataz\, los Nazarenos y los Costaleros son parte importante de la Semana Santa en Sevilla. \nEl Gran Poder\, La Macarena y La Esperanza de Triana son algunas de las Cofradías más conocidas. \nSemana Santa en Sevilla: curiosidades\nComo dato curioso\, te comentaré que son 72 las Cofradías y Hermandades que salen en procesión durante la Semana Santa en Sevilla. Domingo de Ramos\, Lunes Santo y Miércoles Santo son los días con mayor numero de procesiones. \nEn Viernes Santo por la noche también procesionan algunas cofradías. \nSemana Santa en Sevilla: información práctica\nActividades: visitar las Basílicas de la Macarena y del Gran Poder\, el Real Alcázar de Sevilla o el Mercado de Triana. Puedes comer en alguno de los mejores restaurantes de la zona y dormir en cualquiera de los cómodos alojamientos disponibles. \nSi quieres ampliar información puedes visitar la web de Visita Sevilla \n“La foto de cabecera y la foto que ilustra este evento se han publicado bajo licencia Creative Commons en el Flickr de Wingpix «
URL:https://www.tradicionesyfiestas.com/fiesta/semana-santa-en-sevilla/
LOCATION:Sevilla\, Avenida de la Constitución s/n\, Sevilla\, Sevilla\, 41004\, España
CATEGORIES:Fiestas Religiosas,Procesión
ATTACH;FMTTYPE=image/jpeg:https://www.tradicionesyfiestas.com/wp-content/uploads/2015/02/semana-santa-sevilla-evento2.jpg
END:VEVENT
BEGIN:VEVENT
DTSTART;TZID=Europe/Madrid:20260402T000000
DTEND;TZID=Europe/Madrid:20260403T050000
DTSTAMP:20260414T214634
CREATED:20150224T215400Z
LAST-MODIFIED:20250421T074324Z
UID:4975-1775088000-1775192400@www.tradicionesyfiestas.com
SUMMARY:Empalaos de Valverde de la Vera
DESCRIPTION:Adquiere Copias de Autor firmadas por Pedro Armestre pulsando sobre la imagen \nDónde y Cuándo\nEmpalaos de Valverde de la Vera 02/04/2026 – 03/04/2026 \nValverde de la Vera. Cáceres. España. Europa. \nEl Rito de los Empalaos de Valverde de la Vera\, se lleva a cabo todos los años\, en la noche de Jueves Santo a Viernes Santo (a las 00:00 h). \nValverde de la Vera es una pequeña localidad cacereña de unos 500 habitantes\, situada en la Comarca de la Vera\, conocida por qué allí se produce el 35 % de la producción de tabaco de España y por el famoso pimentón de la Vera. También es famosa por su turismo rural. \nOrigen…unas píldoras de Historia  \nEl origen de este rito\, está unido a los Hermanos de Disciplina que luego pasarían a llamarse Cofradía de la Vera Cruz y Pasión de Cristo\, que estuvo extendida por diferentes poblaciones de la comarca durante la edad media. \nEl primer documento escrito que hace referencia a la Cofradía\, pertenece a las primeras ordenanzas que datan del año 1654.  En 1715\, se constituye la Cofradía de la Vera Cruz y Pasión de Cristo. \nEl rito de los Disciplinantes o «Empalaos»\, es un rito de penitencia disciplinante que estuvo muy extendido en España en la edad media. \nFue declarada Fiesta de Interés Turístico Nacional en el año 1980. \nLa Mirada/ Nuestra Mirada\nEste rito guarda mucha relación con los Picaos de San Vicente de la Sonsierra. \nSon varios los actos que se celebran en Valverde de la Vera\, durante el día de Viernes Santo\, aunque quizás el más conocido y multitudinario\, es el Viacrucis de los Empalaos. \nUnas horas antes\, los familiares más cercanos y personas allegadas\, preparan todos los elementos necesarios (timón\, sayas\, soga y corona de espinas) para vestir al penitente. Con calma y cuidado\, se le colocan las sogas al penitente que va desnudo de torso para arriba. Después\, se coloca el timón de arado sobre sus hombros y se cubre con sogas el mismo. Por último\, le colocan el velo y la corona de espinas. \nDespués\, cuando el reloj de la Plaza de España anuncia las doce horas\, comienza el Viacrucis de los Empalaos de Valverde de la Vera\, que les lleva a realizar un recorrido a través de 14 estaciones.  A lo largo de la noche van saliendo diferente empalaos. \nCasi tres cuartos de hora dura el Viacrucis para cada Empalao\, recorrido que suele hacer acompañado de los familiares y allegados y también por la multitud de visitantes.  Cuando se encuentra un Empalao con otro\, se arrodillan el uno frente al otro. \nEmpalaos de Valverde de la Vera: curiosidades\nComo dato curioso\, te comentaré que cuando los Empalaos de Valverde de la Vera terminan la penitencia\, se quitan las sogas y se funden en un emotivo abrazo con los familiares que les han acompañado. \nEmpalaos de Valverde de la Vera: información práctica\nActividades: visitar el Museo del Empalao\, la Sierra de Gredos y la de Tormantos\, la Garganta de Gualtamino y su Cascada del Diablo\, una de las más espectaculares de España. \nPuedes comer en alguno de los mejores restaurantes de la zona y dormir en cualquiera de los cómodos alojamientos disponibles. \nSi quieres ampliar la información turística visita la web de Turismo de Extremadura.
URL:https://www.tradicionesyfiestas.com/fiesta/empalaos-de-valverde-de-la-vera/
LOCATION:Valverde de la Vera\, Plaza España\, 1\, Valverde de la Vera\, Cáceres\, 10490\, España
CATEGORIES:Fiestas Religiosas,Vía Crucis
ATTACH;FMTTYPE=image/jpeg:https://www.tradicionesyfiestas.com/wp-content/uploads/2015/02/empalaos-cabecera-pedro-armestre.jpg
END:VEVENT
BEGIN:VEVENT
DTSTART;TZID=Europe/Madrid:20260402T170000
DTEND;TZID=Europe/Madrid:20260402T230000
DTSTAMP:20260414T214634
CREATED:20150220T214821Z
LAST-MODIFIED:20250421T074427Z
UID:4959-1775149200-1775170800@www.tradicionesyfiestas.com
SUMMARY:Procesión y  Danza de la Muerte de Verges
DESCRIPTION:Dónde y Cuándo\nProcesión y Danza de la Muerte de Verges 02/04/2026  \nVerges. Gerona. España. Europa. \nLa Procesión y Danza de la Muerte de Verges\, se desarrolla todos los años la noche de Jueves Santo. A las 22 h. en la Plaza Mayor\, tiene lugar el Misterio de la Pasión y a las 00 h comienza la Procesión con el rito de la Danza de la Muerte. En 2025\, la Procesión y Danza será el 17 de abril. \nVerges es una localidad de unos 1.200 habitantes\, situada en la comarca del Baix Empordà o Bajo Ampurdán. En esta comarca se concentran gran cantidad de pequeños y bellos pueblos. \nOrigen…unas píldoras de Historia  \nEl origen de la Procesión de Verges\, se encuentra en un testimonio documentado en el año 1666\, cuando se hace una referencia a la Procesión de Jueves Santo. El Misterio de la Pasión que se representa\, se basa en un libro de fray Antonio de San Jerónimo de 1773. \nEl Ritual de la Danza de la Muerte o Dansa de la Mort\, hunde sus raíces en la Europa que fue asolada por la peste negra entre los siglos XIV y XVII. La danza indica el paso inexorable de todos los hombres hacia la muerte. \nLa Mirada/ Nuestra Mirada\nCada Jueves Santo\, a eso de las 17 h de la tarde\, se inician los actos de la Procesión y Danza de la Muerte en Verges con el Desfile de las Manages (romanos) que durante dos horas recorren el pueblo en busca de las imágenes que luego formaran parte de la procesión. \nUn poco más tarde\, a las 22 h\, comienza la primera parte del Misterio de la Pasión o Procesión de Verges\, que trascurre en un escenario junto a la Plaza Mayor donde se escenifican los episodios de la vida pública de Jesús. \nDespués\, a las 00 h\, comienza la Procesión en sí\, donde se representan las escenas del recorrido de Jesús hasta el monte del Calvario. Todo el recorrido está iluminado por antorchas y caracoles de aceite creando una atmosfera oscura. \nMientras transcurre la Procesión\, tiene lugar la Danza de la Muerte\, quizás el momento más característico de esta celebración. Son 5 esqueletos los que bailan al ritmo de un tambor creando un ambiente tétrico. \nProcesión y Danza de la Muerte de Verges: curiosidades\nComo dato curioso\, te comentaré que uno de los momentos más destacados de la Procesión y Danza de la Muerte de Verges\, es el paso de la procesión por la calle de los Caracoles\, pues está ambientada de una forma muy singular con caracoles de aceite que iluminan la calle. \nProcesión y Danza de la Muerte de Verges : información práctica\nActividades: visitar las calas de Palafrugell\, Calella o Begur o el Parque Natural de las Islas Medes. Realizar la Ruta por los pueblos medievales de Forallac. Puedes comer en alguno de los mejores restaurantes de la zona y dormir en cualquiera de los cómodos alojamientos disponibles. \nSi quieres ampliar información puedes visitar la web de Turismo de Girona \n“La foto de cabecera y la foto que ilustra este evento se han publicado bajo licencia Creative Commons en el Flickr de Dantzan «
URL:https://www.tradicionesyfiestas.com/fiesta/procesion-y-danza-de-la-muerte-de-verges/
LOCATION:Verges\, Plaza Mayor\, 1\, Verges\, Gerona\, 17142\, España
CATEGORIES:Escenificación,Fiestas Religiosas,Procesión
ATTACH;FMTTYPE=image/jpeg:https://www.tradicionesyfiestas.com/wp-content/uploads/2015/02/danza-de-la-muerte-cabecera-evento.jpg
END:VEVENT
BEGIN:VEVENT
DTSTART;TZID=Europe/Madrid:20260402T180000
DTEND;TZID=Europe/Madrid:20260403T210000
DTSTAMP:20260414T214634
CREATED:20150211T224728Z
LAST-MODIFIED:20250628T142653Z
UID:4909-1775152800-1775250000@www.tradicionesyfiestas.com
SUMMARY:Picaos de San Vicente de la Sonsierra
DESCRIPTION:Dónde y Cuándo\nPicaos de San Vicente de la Sonsierra 02/04/2026 – 03/04/2026  \nSan Vicente de la Sonsierra. La Rioja. España. Europa. \nLos Picaos\, es un rito que se lleva a cabo todos los años\, los días de Jueves Santo (a las 19:30 h y a las 23 h\, Hora Santa) y Viernes Santo (a las 11:30 h). \n Además de estos dos días\, también hacen su aparición el día de la Cruz de Mayo (a las 18 h del día 3 si es domingo y si no el domingo siguiente) y el día de la Cruz de Septiembre (a las 18h del día 14 si es domingo y si no el domingo siguiente). \nSan Vicente de la Sonsierra es una pequeña localidad riojana de unos 1.000 habitantes\, situada en la Comarca de Haro\, zona de reconocidas bodegas. \nOrigen…unas píldoras de Historia  \nEl origen de este rito está unido a la Cofradía de la Vera Cruz\, que estuvo ampliamente extendida en muchas zonas de La Rioja durante la edad media.  Hoy día\, la de San Vicente de la Sonsierra es la única que todavía mantiene vivo el rito de los disciplinantes. \nEl primer documento escrito que hace referencia a la Cofradía\, es un decreto que data del año 1524. Existe otro documento escrito del año 1551 que recoge las reglas o estatutos de la Vera Cruz. \nEl rito de los Disciplinantes o «Picaos» es el único rito de penitencia disciplinante con sangre que queda en España. Durante muchos años\, fue una práctica habitual en muchos lugares del país. \nFue declarada Fiesta de Interés Turístico Nacional en el año 2005. \nLa Mirada/ Nuestra Mirada\nPara ser uno de los disciplinantes o Picaos de San Vicente de la Sonsierra\, hay que cumplir una serie de requisitos. Una vez aceptado el disciplinante\, acude a la Hora Santa o a la Procesión para arrodillarse ante el paso al que le ha realizado la ofrenda. \nDespués\, reza una oración y acto seguido se pone de pie para que su acompañante le retire la capa de los hombros. Es en ese momento cuando puede comenzar a golpearse con la madeja. Más o menos\, está unos 20 minutos flagelándose (se dan entre 800 y 1000 golpes) para que a continuación la persona que le acompaña y el práctico decidan cuándo es el momento de pincharle. \nEs en ese instante cuando el rito toma el nombre de Picaos\, ya que el práctico le pica con una bola de cera virgen que lleva incrustados 6 cristales\, con el fin de prevenir problemas posteriores. \nPicaos de San Vicente de la Sonsierra: curiosidades\nComo dato curioso\, te comentaré que cuando los Picaos de San Vicente de la Sonsierra  terminan la penitencia\, acuden a la Cofradía de la Vera Cruz para que les laven y les curen las heridas con agua de romero. \nPicaos de San Vicente de la Sonsierra: información práctica\nActividades: visitar la Iglesia de Santa Maria la Mayor\, ver el puente medieval sobre el rio Ebro desde el mirador que está cerca de la iglesia. Conocer Briones o visitar el Museo de la Cultura del Vino. Puedes comer en alguno de los mejores restaurantes de la zona y dormir en cualquiera de los cómodos alojamientos disponibles. \nSi quieres ampliar información puedes visitar la web de La Rioja Turismo
URL:https://www.tradicionesyfiestas.com/fiesta/picaos-de-san-vicente-de-la-sonsierra/
LOCATION:San Vicente de la Sonsierra\, Plaza Mayor\, 1\, San Vicente de la Sonsierra\, La Rioja\, 26338\, España
CATEGORIES:Fiestas Religiosas,Procesión,Rito,Tradiciones,Costumbres, Ritos, Folclore
ATTACH;FMTTYPE=image/jpeg:https://www.tradicionesyfiestas.com/wp-content/uploads/2015/03/picaos-cabecera-evento2.jpg
END:VEVENT
END:VCALENDAR