BEGIN:VCALENDAR
VERSION:2.0
PRODID:-//Fiestas y Tradiciones  - ECPv6.15.11//NONSGML v1.0//EN
CALSCALE:GREGORIAN
METHOD:PUBLISH
X-ORIGINAL-URL:https://www.tradicionesyfiestas.com
X-WR-CALDESC:Eventos para Fiestas y Tradiciones 
REFRESH-INTERVAL;VALUE=DURATION:PT1H
X-Robots-Tag:noindex
X-PUBLISHED-TTL:PT1H
BEGIN:VTIMEZONE
TZID:Europe/Madrid
BEGIN:DAYLIGHT
TZOFFSETFROM:+0100
TZOFFSETTO:+0200
TZNAME:CEST
DTSTART:20250330T010000
END:DAYLIGHT
BEGIN:STANDARD
TZOFFSETFROM:+0200
TZOFFSETTO:+0100
TZNAME:CET
DTSTART:20251026T010000
END:STANDARD
BEGIN:DAYLIGHT
TZOFFSETFROM:+0100
TZOFFSETTO:+0200
TZNAME:CEST
DTSTART:20260329T010000
END:DAYLIGHT
BEGIN:STANDARD
TZOFFSETFROM:+0200
TZOFFSETTO:+0100
TZNAME:CET
DTSTART:20261025T010000
END:STANDARD
BEGIN:DAYLIGHT
TZOFFSETFROM:+0100
TZOFFSETTO:+0200
TZNAME:CEST
DTSTART:20270328T010000
END:DAYLIGHT
BEGIN:STANDARD
TZOFFSETFROM:+0200
TZOFFSETTO:+0100
TZNAME:CET
DTSTART:20271031T010000
END:STANDARD
END:VTIMEZONE
BEGIN:VEVENT
DTSTART;TZID=Europe/Madrid:20260522T080000
DTEND;TZID=Europe/Madrid:20260525T170000
DTSTAMP:20260419T190305
CREATED:20191119T181402Z
LAST-MODIFIED:20250628T143819Z
UID:10451-1779436800-1779728400@www.tradicionesyfiestas.com
SUMMARY:Cómo ir a la Romería del Rocío
DESCRIPTION:Procesión con la Virgen de la Blanca Paloma\, principal reclamo de la Romería del Rocío\nCómo ir a la Romería del Rocío\, hoy te lo explico. \nTodo el mundo sabe que la Procesión con la Virgen de la Blanca Paloma en la Aldea del Rocío es el principal reclamo de la famosa Romería del Rocío. Aunque no hayas estado nunca en esta fiesta\, seguro que alguna vez te has quedado prendado al verla en algún medio de comunicación. \nTanto si eres religioso  como si no\, quizá te hayas planteado alguna vez acudir a la Romería del Rocío. Si te animas a hacerlo\, es una buena oportunidad para conocer esta tradición que por unos días convierte a la Aldea del Rocío en el centro neurálgico donde se mezclan fe\, folklore y celebración. Hoy te explico algunos detalles para que sepas como ir a la Romería del Rocío y no perderte nada de lo más importante. \n\n\n(foto: Geraldine Veit) \nCómo ir a la Romería del Rocío\nMuchas son las formas de vivir la Romería del Rocío: la primera y más obvia\, aunque no la más segura\, es ir a la aventura. Desde aquí te aconsejamos que ni te lo plantees a no ser que seas una persona extremadamente hábil a la hora de buscarte la vida. Necesitaras encontrar un alojamiento o obtener el permiso especial para asentamientos temporales (si quieres acampar). Además deberás elegir la ropa adecuada y proveerte de la comida necesaria. También deberás buscar un transporte adecuado o pagar los permisos necesarios si vas a llevar tu propio vehículo. \nOtra opción es ir con una hermandad\, solo necesitas conocer a alguien que pertenezca a alguna de las más de 100 hermandades filiales o hermandades no filiales para que puedas viajar con ellos. \nLa última elección\, que para mí es la más viable si la razón principal de tu visita a la Romería del Rocío es vivirla desde dentro\, es pagar para qué un guía local se encargue de todo y así asegurarte de que por lo menos vas a disfrutarla en condiciones óptimas. \nDentro de las múltiples opciones que se ofrecen sobre cómo ir a la Romería del Rocío\, hoy te voy a contar cuáles es\, en mi opinión\, la mejor forma de vivirla. \n\n(foto: Geraldine Veit) \nRomería del Rocío con un guía local\nSi después de todo lo que te he contado todavía crees que puedes organizar tu experiencia para vivir esta bonita tradición\, quizá no tiene sentido que sigas leyendo. Nuestra experiencia nos dice que hay una determinado tipo de fiestas que es mejor vivir las acompañado por un guía local. Solo así se puede extraer la esencia de determinadas fiestas o tradiciones. \nEncontrar a una persona que conozca la fiesta por dentro\, que conozca sus detalles y que sea capaz de hacer que te integres como uno más\, es una de las labores más importantes que un amante de nuestras fiestas y tradiciones debe hacer. \n\n(foto: Geraldine Veit) \nResumiendo\nMuchas son las formas para ir a la Romería del Rocío\, en Almonte pero también muchas las personas interesadas en vivirla desde dentro. Si además quieres hacerlo en sus fechas oficiales\, tendrás que competir con miles de españoles y extranjeros que durante los días del la Romería nos visitan. \nAhora ya sabes que acompañado por un guía local la sensación será como estar viviendo la Romería del Rocío como un autentico romero. \n\n(foto: Geraldine Veit) \n 
URL:https://www.tradicionesyfiestas.com/fiesta/como-ir-la-romeria-del-rocio/
CATEGORIES:Fiestas Populares,Fiestas Religiosas,Romería
ATTACH;FMTTYPE=image/jpeg:https://www.tradicionesyfiestas.com/wp-content/uploads/2018/01/romeriarociofis2.jpg
END:VEVENT
BEGIN:VEVENT
DTSTART;TZID=Europe/Madrid:20260522T120000
DTEND;TZID=Europe/Madrid:20260525T223000
DTSTAMP:20260419T190305
CREATED:20170220T205728Z
LAST-MODIFIED:20250628T143732Z
UID:6629-1779451200-1779748200@www.tradicionesyfiestas.com
SUMMARY:Romería del Rocío
DESCRIPTION:[vc_row][vc_column][vc_column_text] \n\n \n\nDónde y Cuándo\nRomería del Rocío 22/05/2026 – 25/05/26 \nAlmonte. Huelva. España. Europa. \nLa Romería del Rocío\, es una celebración con un marcado carácter popular y religioso. Se desarrolla durante el fin de semana del domingo de Pentecostés\, en la aldea de Almonte provincia de Huelva. En 2026 la Romería será del 22 al 25 de mayo. La Festividad de la Virgen del Rocío se celebra el lunes siguiente al Domingo de Pentecostés. \nAlmonte es una localidad de unos 23.000 habitantes\, situada en la comarca del Condado de Huelva. En esta comarca se producen destacados vino pertenecientes a la Denominación de Origen Condado de Huelva. La localidad es conocida porque en su término municipal alberga la Playa de Matalascañas\, la Aldea del Rocío y el Parque Nacional de Doñana. \nOrigen…unas píldoras de Historia  \nCuenta la leyenda que en el siglo XV un hombre mientras estaba cazando en el término almonteño conocido como la rocina\, encontró la imagen de la virgen junto a un árbol después de haber cruzado unas zarzas. \nEl origen documentado de la Romería del Rocío\, data del año 1653 cuando la localidad de Almonte nombró patrona a la Virgen del Rocío antes conocida como virgen de las rocinas. Esa fiesta en honor de la Virgen de Rocío duraba solo un día e incluía una misa solemne\, sermón y la Procesión con la imagen de la Virgen. \nPor otro lado\, es en 1677 cuando aparece documentada la primera Hermandad Filial del Rocío\, conocida como la Hermandad de Sanlúcar de Barrameda. Son cinco las Hermandades Filiales Fundacionales que hacían la peregrinación anual hacia la Ermita de la Aldea del Rocío. \nEs la Hermandad Matriz del Rocío la encargada de administrar y organizar tanto los cultos como la propia Romería del Rocío. \nQué es / En qué consiste\nTodo comienza a las 12 h del sábado víspera de Pentecostés. Es en ese momento en el cual se presentan ante las puertas del santuario por orden de antigüedad las Hermandades Filiales. A lo largo del día van pasando el resto de hermandades. Por la noche lo hacen las que se han creado recientemente. \nEl domingo de Pentecostés a las 10 h\, se celebra en el Real del Rocío la Misa Pontifical. Una vez se acaba la Eucaristía los peregrinos se van acercando hasta sus casas de hermandad. Allí se reúnen  con sus compañeros cofrades. La noche del domingo se aclama el santo Rosario justo en la explanada del paraje conocido como El Eucaliptal. Allí se juntan los estandartes y los romeros de cada hermandad\, dando lugar a una noche donde se repiten avemarías\, salves y letanías a la virgen. \nYa en la madrugada del lunes\, los romeros saltan la reja para rescatar a la virgen e iniciar así la procesión con las andas de plata entre un gentío que quiere tocar la imagen de la virgen. \nRomería del Rocío: curiosidades\nComo dato curioso\, te diré que la Romería del Rocío no siempre se ha celebrado el lunes después del Domingo de Pentecostés. Hasta el siglo XVII se celebraba el 8 de septiembre. La Virgen del Rocío recibe el nombre de la Blanca Paloma como referencia a la trascendencia de la Fiesta de Pentecostés\, venida del Espíritu Santo a la Virgen y los Apóstoles representado por una paloma. \nRomería del Rocío: información práctica\nActividades: visitar el Parque Nacional de Doñana o las Playas de Matalascañas o la ciudad de la Cultura. Puedes comer en alguno de los mejores restaurantes de la zona y dormir en cualquiera de los cómodos alojamientos disponibles. \nSi quieres ampliar información puedes visitar la web de Turismo de Huelva. \n(fotos: Geraldine Veit)
URL:https://www.tradicionesyfiestas.com/fiesta/romeria-del-rocio/
LOCATION:Aldea de El Rocío\, c/ Ermita s/n\, El Rocío\, Huelva\, 21750\, España
CATEGORIES:Fiestas Religiosas,Ritos,Romería
ATTACH;FMTTYPE=image/jpeg:https://www.tradicionesyfiestas.com/wp-content/uploads/2017/02/romeriarociohuelva.jpg
END:VEVENT
END:VCALENDAR