BEGIN:VCALENDAR
VERSION:2.0
PRODID:-//Fiestas y Tradiciones  - ECPv6.15.11//NONSGML v1.0//EN
CALSCALE:GREGORIAN
METHOD:PUBLISH
X-WR-CALNAME:Fiestas y Tradiciones 
X-ORIGINAL-URL:https://www.tradicionesyfiestas.com
X-WR-CALDESC:Eventos para Fiestas y Tradiciones 
REFRESH-INTERVAL;VALUE=DURATION:PT1H
X-Robots-Tag:noindex
X-PUBLISHED-TTL:PT1H
BEGIN:VTIMEZONE
TZID:Europe/Madrid
BEGIN:DAYLIGHT
TZOFFSETFROM:+0100
TZOFFSETTO:+0200
TZNAME:CEST
DTSTART:20250330T010000
END:DAYLIGHT
BEGIN:STANDARD
TZOFFSETFROM:+0200
TZOFFSETTO:+0100
TZNAME:CET
DTSTART:20251026T010000
END:STANDARD
BEGIN:DAYLIGHT
TZOFFSETFROM:+0100
TZOFFSETTO:+0200
TZNAME:CEST
DTSTART:20260329T010000
END:DAYLIGHT
BEGIN:STANDARD
TZOFFSETFROM:+0200
TZOFFSETTO:+0100
TZNAME:CET
DTSTART:20261025T010000
END:STANDARD
BEGIN:DAYLIGHT
TZOFFSETFROM:+0100
TZOFFSETTO:+0200
TZNAME:CEST
DTSTART:20270328T010000
END:DAYLIGHT
BEGIN:STANDARD
TZOFFSETFROM:+0200
TZOFFSETTO:+0100
TZNAME:CET
DTSTART:20271031T010000
END:STANDARD
END:VTIMEZONE
BEGIN:VEVENT
DTSTART;TZID=Europe/Madrid:20260926T000000
DTEND;TZID=Europe/Madrid:20260927T235900
DTSTAMP:20260420T011740
CREATED:20130902T205808Z
LAST-MODIFIED:20251022T163748Z
UID:2303-1790380800-1790553540@www.tradicionesyfiestas.com
SUMMARY:Procesión del Vítor
DESCRIPTION:Dónde y Cuándo\nProcesión del Vítor  27/09/2026 \nMayorga. Valladolid. España. Europa. \nLa fiesta del Vítor se celebra en Mayorga\, Valladolid\, cada 27 de Septiembre dentro de las fiestas de Mayorga que van del 26 al 30 de Septiembre. Su fin es conmemorar la llegada de las reliquias a la localidad de Santo Toribio de Mongroviejo. El santo fue misionero y  Arzobispo de Lima\, principal evangelizador de América. Mayorga es la localidad natal de Santo Toribio de Mongroviejo. \nOrigen…unas píldoras de Historia\nEl origen de esta celebración se remonta al siglo XVIII\, concretamente al año 1737 año en que Mayorga recibió desde Perú las reliquias del Santo. La procesión del Vítor es el orgullo de los habitantes de Mayorga. No es para menos dada su singularidad. \nEl «Vítor» es un símbolo derivado del crismón del Bajo Imperio Romano. Algunas universidades españolas\, entre ellas la de Salamanca\, lo utilizaron a modo de emblema conmemorativo a la hora otorgar el título de Doctor. En el caso del Vítor de Mayorga\, el símbolo es un estandarte que representa la reliquia (hueso del santo\, la tibia en este caso) de Santo Toribio de Mongroviejo. \nLa fiesta es declarada de Interés Turístico Nacional en el año 2003. \nQué es / En qué consiste\nTodo el pueblo de Mayorga participa en este acto que da comienzo el día de antes\, 26 de septiembre\, con las “vísperas”. Es en torno a las diez de la noche cuando se va a buscar al custodio del Vítor. Posteriormente\, en la Plaza Mayor\, se procede a la quema del cubo. Desde este momento y hasta siete horas más tarde el pueblo vive una peculiar procesión. En ella se mezclan la música\, el olor a pez o brea y la fiesta. \nProcesión del Vítor: curiosidades\nComo dato curioso comentarte que en esta fiesta portan más de 1000 las antorchas (varas muy grandes con un pellejo de vino en el extremo\, lleno de pez o brea). De ese modo a lo largo de la noche se van quemando y le dan un toque distinto a esta procesión. En conclusión\, es una fiesta de las relacionadas con el fuego que no debes perderte. \n “La foto de cabecera y la foto que ilustra este post se han publicado bajo licencia Creative Commons en el Flickr de javimusikas “ \n 
URL:https://www.tradicionesyfiestas.com/fiesta/procesion-del-vitor-tradiciones-de-castilla-y-leon/
LOCATION:Mayorga de Campos\, Plaza de España\, 1\, 47680\, Valladolid\, 47680\, España
CATEGORIES:Procesión,Tradiciones,Costumbres, Ritos, Folclore
ATTACH;FMTTYPE=image/jpeg:https://www.tradicionesyfiestas.com/wp-content/uploads/2013/09/el-vitor-destacada.jpg
END:VEVENT
END:VCALENDAR