BEGIN:VCALENDAR
VERSION:2.0
PRODID:-//Fiestas y Tradiciones  - ECPv6.15.11//NONSGML v1.0//EN
CALSCALE:GREGORIAN
METHOD:PUBLISH
X-WR-CALNAME:Fiestas y Tradiciones 
X-ORIGINAL-URL:https://www.tradicionesyfiestas.com
X-WR-CALDESC:Eventos para Fiestas y Tradiciones 
REFRESH-INTERVAL;VALUE=DURATION:PT1H
X-Robots-Tag:noindex
X-PUBLISHED-TTL:PT1H
BEGIN:VTIMEZONE
TZID:Europe/Madrid
BEGIN:DAYLIGHT
TZOFFSETFROM:+0100
TZOFFSETTO:+0200
TZNAME:CEST
DTSTART:20260329T010000
END:DAYLIGHT
BEGIN:STANDARD
TZOFFSETFROM:+0200
TZOFFSETTO:+0100
TZNAME:CET
DTSTART:20261025T010000
END:STANDARD
BEGIN:DAYLIGHT
TZOFFSETFROM:+0100
TZOFFSETTO:+0200
TZNAME:CEST
DTSTART:20270328T010000
END:DAYLIGHT
BEGIN:STANDARD
TZOFFSETFROM:+0200
TZOFFSETTO:+0100
TZNAME:CET
DTSTART:20271031T010000
END:STANDARD
BEGIN:DAYLIGHT
TZOFFSETFROM:+0100
TZOFFSETTO:+0200
TZNAME:CEST
DTSTART:20280326T010000
END:DAYLIGHT
BEGIN:STANDARD
TZOFFSETFROM:+0200
TZOFFSETTO:+0100
TZNAME:CET
DTSTART:20281029T010000
END:STANDARD
END:VTIMEZONE
BEGIN:VEVENT
DTSTART;TZID=Europe/Madrid:20270105T190000
DTEND;TZID=Europe/Madrid:20270105T220000
DTSTAMP:20260420T070026
CREATED:20151106T114510Z
LAST-MODIFIED:20260116T154737Z
UID:5614-1799175600-1799186400@www.tradicionesyfiestas.com
SUMMARY:Cabalgata de Reyes Magos de Guillena
DESCRIPTION:Dónde y Cuándo\nCabalgata de Reyes Magos de Guillena  05/01/2027  \nGuillena. Sevilla . España. Europa. \nLa Cabalgata de Reyes Magos de Guillena\, se desarrolla durante la tarde-noche del 5 de enero. Es la única Cabalgata Viviente de toda la provincia de Sevilla y una de las más singulares de España. \nGuillena es una localidad sevillana de unos 12.000 habitantes\, situada en la Vía de la Plata y en la comarca Sierra Norte de Sevilla. Es una comarca compuesta por 18 municipios. Dentro de la comarca destaca el Parque Natural Sierra Norte de Sevilla. \nOrigen…unas píldoras de Historia  \nEl origen de la Cabalgata de Reyes Magos de Guillena\, data del año 1991 cuando se reúnen varios componentes de la Asociación Cultural Estribaciones y deciden organizar la primera Cabalgata Viviente de Guillena. Es el 5 de enero de 1992 cuando  se celebra la cabalgata por primera vez en su formato viviente. \nDurante los primeros años\, la cabalgata contó con un pequeño número de carrozas\, pero con los años ha ido aumentando el número y mejorando la calidad. \nEn 2016 celebrarán su 25 aniversario\, por lo que la comisión organizadora prepara con cariño esta importante efeméride. \nLa Mirada/ Nuestra Mirada\nAntes de la esperada fecha\, los vecinos de Guillena se reúnen en grupos o familias y preparan\, costeándolo de su propio bolsillo\, las diferentes escenas que compondrán la Cabalgata de Reyes Magos de Guillena. \nTodos los años\, el 5 de enero\, discurre la Cabalgata por las calles de Guillena durante 3 horas. \nSon 12 carrozas\, cada una representando diferentes pasajes donde los participantes parecen esculturas de personajes bíblicos. Las escenas recrean fielmente la vida en tiempos de Jesús\, hábitos\, costumbres. Se repreentan entre otras escenas; la anunciación a María\, a los pastores\, el nacimiento de Jesús\, Herodes. \nAdemás\, el desfile se completa con las carrozas de los 3 Reyes Magos\, las carrozas infantiles y la Estrella. \nCabalgata de Reyes Magos de Guillena: curiosidades\nComo dato curioso\, te comentaré que durante la Cabalgata Viviente de Guillena\, los participantes pasan inmóviles las 3 horas de duración. Además\, tienen que soportar el frio con la ropa que llevan para encarnar a los personajes y que en la mayoría de los casos es muy ligera y proporciona escaso abrigo. \nCabalgata de Reyes Magos de Guillena: información práctica\nActividades: visitar la Iglesia de la Virgen de la Granada y su Ayuntamiento o realizar la Ruta del Agua. Realizar cualquiera de las muchas rutas de senderismo que se pueden hacer por Sierra Morena. Puedes comer en alguno de los mejores restaurantes de la zona y dormir en cualquiera de los cómodos alojamientos disponibles. \nSi quieres ampliar información puedes visitar la web de Turismo Sevilla. \n“La foto de cabecera y la foto que ilustra este post se han publicado gracias a la Asociación Cultural Estribaciones» 
URL:https://www.tradicionesyfiestas.com/fiesta/cabalgata-de-reyes-magos-de-guillena/
LOCATION:Guillena\, Plaza España\, 1\, Guillena\, Guillena\, 41210\, España
CATEGORIES:Escenificación,Fiestas Religiosas
ATTACH;FMTTYPE=image/jpeg:https://www.tradicionesyfiestas.com/wp-content/uploads/2015/11/cabalgata-guillena-cabecera-evento.jpg
END:VEVENT
END:VCALENDAR