BEGIN:VCALENDAR
VERSION:2.0
PRODID:-//Fiestas y Tradiciones  - ECPv6.15.11//NONSGML v1.0//EN
CALSCALE:GREGORIAN
METHOD:PUBLISH
X-ORIGINAL-URL:https://www.tradicionesyfiestas.com
X-WR-CALDESC:Eventos para Fiestas y Tradiciones 
REFRESH-INTERVAL;VALUE=DURATION:PT1H
X-Robots-Tag:noindex
X-PUBLISHED-TTL:PT1H
BEGIN:VTIMEZONE
TZID:Europe/Madrid
BEGIN:DAYLIGHT
TZOFFSETFROM:+0100
TZOFFSETTO:+0200
TZNAME:CEST
DTSTART:20260329T010000
END:DAYLIGHT
BEGIN:STANDARD
TZOFFSETFROM:+0200
TZOFFSETTO:+0100
TZNAME:CET
DTSTART:20261025T010000
END:STANDARD
BEGIN:DAYLIGHT
TZOFFSETFROM:+0100
TZOFFSETTO:+0200
TZNAME:CEST
DTSTART:20270328T010000
END:DAYLIGHT
BEGIN:STANDARD
TZOFFSETFROM:+0200
TZOFFSETTO:+0100
TZNAME:CET
DTSTART:20271031T010000
END:STANDARD
BEGIN:DAYLIGHT
TZOFFSETFROM:+0100
TZOFFSETTO:+0200
TZNAME:CEST
DTSTART:20280326T010000
END:DAYLIGHT
BEGIN:STANDARD
TZOFFSETFROM:+0200
TZOFFSETTO:+0100
TZNAME:CET
DTSTART:20281029T010000
END:STANDARD
END:VTIMEZONE
BEGIN:VEVENT
DTSTART;TZID=Europe/Madrid:20270201T120000
DTEND;TZID=Europe/Madrid:20270203T235900
DTSTAMP:20260420T083958
CREATED:20140128T115800Z
LAST-MODIFIED:20260207T150547Z
UID:3010-1801483200-1801699140@www.tradicionesyfiestas.com
SUMMARY:Las Candelas de Almendralejo
DESCRIPTION:Dónde y Cuándo\nLas Candelas de Almendralejo 01/02/2027 – 03/02/2027 \nAlmendralejo. Badajoz. España. Europa. \nLa fiesta de Las Candelas\, se celebra en la localidad de Almendralejo\, en la provincia de Badajoz\, durante los días 1\,2 y 3 de Febrero. Almedralejo es una localidad de unos 35.000 habitantes situada en la Comarca de Tierra de Barros famosa por ser la comarca más fértil de Extremadura. Esta fiesta es en honor a la virgen de la Candelaria. \nOrigen…unas píldoras de Historia  \nSe cree que el origen de esta celebración puede estar en la fundación de la localidad por los romanos\, aunque desde el siglo XVII viene simbolizando la quema de lo impuro\, lo viejo y los malos espíritus persiguiendo con ello la purificación de las personas que asistían a las Candelas de Almendralejo. \nDesde el punto de vista documental\, la tradición aparece en el Nuevo Diario de Badajoz un día de febrero del año 1897\, después se fue perdiendo poco a poco y en 1970 se recuperó. \nSon dos los motivos de celebración de la Candelaria: por un lado la conmemoración de la purificación de la Virgen María después del parto de Jesús y por otro la presentación de Jesús en el Templo. \nQué es / En qué consiste \nLa Fiesta de las Candelas de Almendralejo se desarrolla durante los días 1\,2 y 3 de Febrero. \nEl día 1 a las 8 de la tarde en la “Torre de los Almendros” se hace un repique general de campanas y seguido se enciende la Candela Oficial. Después mediante fuegos artificiales se da la señal para encender las demás Candelas u Hogueras organizadas por cada barrio o asociación (son más de 50 repartidas por toda la localidad) \nEn las candelas se queman unos muñecos o monigotes llamados  “Pantarujas”; estos personajes representan el mal. \nEl día 2 de Febrero se presentan y bendicen\, en la parroquia de la Purificación\, a los niños nacidos el año anterior.  Por la tarde se realiza la Procesión de la Candelaria. \nEl día 3 de Febrero\, día de San Blas\, se reparten migas con Chorizo. \nLas Candelas de Almendralejo: curiosidades\nComo dato curioso\, te comentaré que en la procesión del día 2\, junto con la imagen de la Candelaria\, los jóvenes de la ciudad llevan una tarta. \nLas Candelas de Almendralejo: información práctica\nActividades: realizar la Ruta del Vino Ribera del Guadiana\, comer en alguno de los mejores restaurantes de la zona y dormir en cualquiera de los cómodos alojamientos disponibles. \nSi quieres ampliar información puedes visitar la web de Turismo Extremadura \n“La foto de cabecera y la foto que ilustra este post se han publicado bajo licencia Creative Commons en el Flickr de Richard Alen
URL:https://www.tradicionesyfiestas.com/fiesta/las-candelas-de-almendralejo/
LOCATION:Almendralejo\, c/ Escribano\, 16\, Almendralejo\, Badajoz\, 06200\, España
CATEGORIES:Fiesta de un Santo,Fiestas Religiosas,Tradiciones,Costumbres, Ritos, Folclore
ATTACH;FMTTYPE=image/jpeg:https://www.tradicionesyfiestas.com/wp-content/uploads/2014/01/las-candelas-cabecera-evento.jpg
END:VEVENT
END:VCALENDAR