BEGIN:VCALENDAR
VERSION:2.0
PRODID:-//Fiestas y Tradiciones  - ECPv6.15.11//NONSGML v1.0//EN
CALSCALE:GREGORIAN
METHOD:PUBLISH
X-ORIGINAL-URL:https://www.tradicionesyfiestas.com
X-WR-CALDESC:Eventos para Fiestas y Tradiciones 
REFRESH-INTERVAL;VALUE=DURATION:PT1H
X-Robots-Tag:noindex
X-PUBLISHED-TTL:PT1H
BEGIN:VTIMEZONE
TZID:Europe/Madrid
BEGIN:DAYLIGHT
TZOFFSETFROM:+0100
TZOFFSETTO:+0200
TZNAME:CEST
DTSTART:20250330T010000
END:DAYLIGHT
BEGIN:STANDARD
TZOFFSETFROM:+0200
TZOFFSETTO:+0100
TZNAME:CET
DTSTART:20251026T010000
END:STANDARD
BEGIN:DAYLIGHT
TZOFFSETFROM:+0100
TZOFFSETTO:+0200
TZNAME:CEST
DTSTART:20260329T010000
END:DAYLIGHT
BEGIN:STANDARD
TZOFFSETFROM:+0200
TZOFFSETTO:+0100
TZNAME:CET
DTSTART:20261025T010000
END:STANDARD
BEGIN:DAYLIGHT
TZOFFSETFROM:+0100
TZOFFSETTO:+0200
TZNAME:CEST
DTSTART:20270328T010000
END:DAYLIGHT
BEGIN:STANDARD
TZOFFSETFROM:+0200
TZOFFSETTO:+0100
TZNAME:CET
DTSTART:20271031T010000
END:STANDARD
END:VTIMEZONE
BEGIN:VEVENT
DTSTART;TZID=Europe/Madrid:20261013T190000
DTEND;TZID=Europe/Madrid:20261013T235900
DTSTAMP:20260419T180406
CREATED:20131002T210519Z
LAST-MODIFIED:20251022T165930Z
UID:2461-1791918000-1791935940@www.tradicionesyfiestas.com
SUMMARY:Rosario de Cristal de Zaragoza
DESCRIPTION:   foto flcikr: Zaragoza Turismo \nDónde y Cuándo\nRosario de Cristal de Zaragoza. 13/10/2026 \nZaragoza. Aragón. España. Europa. \nLa Procesión del Rosario de Cristal de Zaragoza se celebra en Zaragoza el día 13 de Octubre a las 19h. La procesión tiene como principio y fin la Iglesia del Sagrado Corazón de Jesús\, recorriendo diversas calles del centro de Zaragoza. \nZaragoza es una ciudad de unos 670.000 habitantes situada en la comarca que lleva su nombre. Es la quinta ciudad más poblada de España. \nOrigen…unas píldoras de Historia\nEl origen del Rosario de Cristal de Zaragoza se remonta al año 1889\, este año se celebró el día 12 de Octubre pero al año siguiente paso a celebrarse el día 13 por la tarde. \nEn 1889 se fundó la Cofradía de Nuestra Señora del Rosario que fue la organizadora de la procesión. \nEn un principio era una procesión con el fin de rezar el Rosario\, rezo de la iglesia católica donde se conmemoran los veinte misterios principales de la vida de Jesucristo y de la Virgen. Estos misterios reciben los nombres de “gozosos”  “luminosos” “dolorosos” y “gloriosos”. A esta procesión la cofradía le añadió\, al año siguiente\, los faroles que sirvieron para simbolizar las diferentes partes del rezo del Rosario. \nQué es / En qué consiste\nEl  Rosario de Cristal de Zaragoza es  uno de los actos más desconocidos de la Fiestas del Pilar\, en contraposición a la Ofrenda de Flores\, pero a la vez de los más espectaculares. Es un acto religioso cargado de un gran valor artístico y social: artístico\, por la calidad de los faroles que salen en procesión y social ya que participan un gran número de zaragozanos y zaragozanas además de aragoneses y aragonesas. \nLa procesión se compone de 15 faroles con forma de monumento que son transportados en carrozas y faroles de mano\, casi 250\, para representar las diferentes partes del rezo del Rosario. \nRosario de Cristal de Zaragoza: curiosidades\nComo dato curioso comentarte que en la procesión del Rosario de Cristal de Zaragoza participan unas 100.000 personas ataviadas con trajes regionales y que unas 500.000 personas asisten como público\, siendo un acto casi tan multitudinario como la Ofrenda de Flores a la Virgen del Pilar pero apenas conocido. \nRosario de Cristal de Zaragoza: información Práctica\nActividades: visitar la Basílica del Pilar o el Palacio de la Aljafería o el Museo Pablo Serrano. Realizar cualquiera de las diferentes rutas de turísticas que se pueden hacer por la ciudad. Puedes comer en alguno de los mejores restaurantes de la zona y dormir en cualquiera de los cómodos alojamientos disponibles. \n Si quieres ampliar información puedes visitar la web del Ayuntamiento de Zaragoza \n “La foto de cabecera y la foto que ilustra este post se han publicado bajo licencia Creative Commons en el Flickr de «Zaragoza Turismo“ \n 
URL:https://www.tradicionesyfiestas.com/fiesta/rosario-de-cristal/
LOCATION:Zaragoza\, Plza Ntra. Señora del Pilar\, s/n\, Zaragoza\, Zaragoza\, 50003\, España
CATEGORIES:Fiestas Patronales o Mayores,Procesión,Rito,Tradiciones,Costumbres, Ritos, Folclore
ATTACH;FMTTYPE=image/jpeg:https://www.tradicionesyfiestas.com/wp-content/uploads/2013/10/rosario-de-cristal-evento.jpg
END:VEVENT
END:VCALENDAR