BEGIN:VCALENDAR
VERSION:2.0
PRODID:-//Fiestas y Tradiciones  - ECPv6.15.11//NONSGML v1.0//EN
CALSCALE:GREGORIAN
METHOD:PUBLISH
X-WR-CALNAME:Fiestas y Tradiciones 
X-ORIGINAL-URL:https://www.tradicionesyfiestas.com
X-WR-CALDESC:Eventos para Fiestas y Tradiciones 
REFRESH-INTERVAL;VALUE=DURATION:PT1H
X-Robots-Tag:noindex
X-PUBLISHED-TTL:PT1H
BEGIN:VTIMEZONE
TZID:Europe/Madrid
BEGIN:DAYLIGHT
TZOFFSETFROM:+0100
TZOFFSETTO:+0200
TZNAME:CEST
DTSTART:20250330T010000
END:DAYLIGHT
BEGIN:STANDARD
TZOFFSETFROM:+0200
TZOFFSETTO:+0100
TZNAME:CET
DTSTART:20251026T010000
END:STANDARD
BEGIN:DAYLIGHT
TZOFFSETFROM:+0100
TZOFFSETTO:+0200
TZNAME:CEST
DTSTART:20260329T010000
END:DAYLIGHT
BEGIN:STANDARD
TZOFFSETFROM:+0200
TZOFFSETTO:+0100
TZNAME:CET
DTSTART:20261025T010000
END:STANDARD
BEGIN:DAYLIGHT
TZOFFSETFROM:+0100
TZOFFSETTO:+0200
TZNAME:CEST
DTSTART:20270328T010000
END:DAYLIGHT
BEGIN:STANDARD
TZOFFSETFROM:+0200
TZOFFSETTO:+0100
TZNAME:CET
DTSTART:20271031T010000
END:STANDARD
END:VTIMEZONE
BEGIN:VEVENT
DTSTART;TZID=Europe/Madrid:20261130T000000
DTEND;TZID=Europe/Madrid:20261208T235900
DTSTAMP:20260421T141240
CREATED:20131112T073850Z
LAST-MODIFIED:20260116T145622Z
UID:2678-1795996800-1796774340@www.tradicionesyfiestas.com
SUMMARY:Procesión de la Virgen de los Pegotes
DESCRIPTION:Dónde y Cuándo\nProcesión de la Virgen de los Pegotes. 30/11/2026 – 08/12/2026  \nNava del Rey. Valladolid. España. Europa. \nLa tradición de la Subida y la Bajada de Nuestra Señora de la Concepción\, conocida como la Procesión de la Virgen de los Pegotes\, se desarrolla en Nava del Rey\, Valladolid. La Bajada es el 30 de noviembre y la Subida es el 8 de diciembre. Son muchas las peregrinaciones y romerías que se celebran a lo largo de la geografía española pero esta tiene una característica especial: iluminar el paso de la Virgen con hogueras y antorchas.  \nOrigen…unas píldoras de Historia  \nEl origen de esta celebración se remonta al siglo XVIII\, concretamente al año 1745\, momento en el cual se elige a Nuestra Señora de la Concepción como patrona de la localidad. A partir de aquí\, se instaura un novenario en su honor que comienza el día 30 de noviembre y termina el 8 de diciembre. \nJusto antes de comenzar la primera celebración\, una tormenta dejó la localidad sin luces y a alguien se le ocurrió encender hogueras y antorchas (pegotes) para iluminar el camino; de aquí el origen del nombre. \nLa Procesión de la Virgen de los Pegotes  es  declarada de Interés Turístico Regional en el año 2008 y en el  año 2018 fue declarada Fiesta de Interés Turístico Nacional. \nQué es / En qué consiste\nSobre las 19 horas del 30 de Noviembre\, día de “La Bajada”\, se da comienzo a este acto de trasladar la imagen de la Virgen desde la ermita hasta la parroquia de la localidad. Su traslado se hace en una carroza o coche de caballos acompañado por el párroco\, el alcalde y un familiar de la familia que donó la carroza; a lo largo del camino le lanzan vítores: » Viva María Santísima» «Viva la Pura y sin Mancha» «Viva la Reina de la Paz» llegando a emitir más de 20 vivas diferentes. \nAdemás de este día\, el día 8 de Diciembre se celebra «La Subida»: una vez finalizada la novena en honor de la Virgen\, se repite el mismo acto pero realizando el camino inverso\, de la parroquia a la ermita. \nProcesión de la Virgen de los Pegotes: curiosidades\nComo dato curioso\, te comentaré que al finalizar la Procesión de la Virgen de los Pegotes el Ayuntamiento reparte castañas asadas y vino rancio. También hay un concurso de tapas y pinchos que tienen a la castaña y el vino como parte importante del concurso. \nProcesión de la Virgen de los Pegotes: información práctica\nActividades: visitar las bodegas de la denominación de origen «Toro» o comer en alguno de los mejores restaurantes de la zona y dormir en cualquiera de los cómodos alojamientos disponibles (encuéntralos en turismocastillayleon) \nSi quieres ampliar información puedes visitar la web del ayuntamiento de Nava del Rey. \n“La foto de cabecera y la foto que ilustra este post se han publicado bajo licencia Creative Commons en el Flickr de Chema Concellon
URL:https://www.tradicionesyfiestas.com/fiesta/virgen-de-los-pegotes-procesion/
LOCATION:Nava del Rey\, Plaza de España\, 13\, Nava del Rey\, Valladolid\, 47500\, España
CATEGORIES:Fiestas Religiosas,Procesión
ATTACH;FMTTYPE=image/jpeg:https://www.tradicionesyfiestas.com/wp-content/uploads/2013/11/virgen-pegotes-evento-destacada.jpg
END:VEVENT
BEGIN:VEVENT
DTSTART;TZID=Europe/Madrid:20261224T170000
DTEND;TZID=Europe/Madrid:20261224T193000
DTSTAMP:20260421T141240
CREATED:20131122T151208Z
LAST-MODIFIED:20260116T152745Z
UID:2731-1798131600-1798140600@www.tradicionesyfiestas.com
SUMMARY:Festa de la Fia Faia
DESCRIPTION:  \n\n \n\nDónde y Cuándo\nFesta de la Fia Faia  – 24/12/2026 \nBagá. Barcelona. España. Europa. \nLa Festa de la Fia-Faia se celebra en la localidad de Bagá en la provincia de Barcelona el día 24 de Diciembre\, Nochebuena. También se celebra en el pueblo de Sant Julià de Cerdanyola. Las dos poblaciones se encuentran en la zona del Alt Berguedà. \nEsta fiesta sirve para dar comienzo a la Navidad en ambas poblaciones. \nOrigen…unas píldoras de Historia  \nEl origen de este rito pre- cristiano es ancestral y tiene que ver con el culto al sol\, propio de las religiones antiguas de carácter agrario. El culto al sol se realizaba fundamentalmente con el comienzo de los solsticios de verano y de invierno\, esto es\, el cambio a los días más largos y a los días más cortos. \nNormalmente\, los ritos con fuego suelen celebrarse en el solsticio de verano\, en la noche de San Juan; la Festa de la Fia-Faia es de los pocos que quedan en el solsticio de invierno. \nLa Festa de la Fia Faia\, fiesta del fuego; sirve también de rito iniciático para los más jóvenes de la localidad. \nLa villa de Bagá se constituyó en el año 1350; desde esa fecha se viene celebrando la fiesta en su forma actual quemando grandes antorchas vegetales. \nQué es / En qué consiste \nEl 24  de Diciembre\, a las 5 la tarde\, comienza la Festa de la Fia Faia.  Las gentes del pueblo suben a la montaña\, a la parte donde se pone el sol\, y allí prenden una hoguera. Una vez encendida la hoguera\, irán pasando a encender sus antorchas o faias para después descender por el camino de vuelta creando una atmosfera de luz increíble. \nAl llegar al pueblo\, se dirigen a la plaza donde se pasarán las antorchas unos a otros; después crearán una hoguera con los restos de las antorchas y saltarán por encima. \nPara finalizar\, todos juntos bailarán y cantarán alrededor de la hoguera. \nFesta de la Fia Faia: curiosidades\nComo dato curioso\, comentarte que las faias que se queman tienen entre uno y cuatro metros de altura y unos 30 centímetros de diámetro. Están hechas con una hierba llamada Escabiosa Blanca o (Cephalaria Leucantha) que se recoge unas semanas antes. \nFesta de la Fia Faia: información Práctica\nActividades: hacer la travesía Cavalls del Vent o disfrutar ricos manjares en el restaurante Niu Nou y dormir en la casa refugio Rebost. \nSi quieres ampliar información puedes visitar la web de Barcelona es mucho mas. \n“La foto de cabecera y la foto que ilustra este post se han publicado bajo licencia Creative Commons en el Flickr de Jordi Chueca«
URL:https://www.tradicionesyfiestas.com/fiesta/festa-de-la-fia-faia/
LOCATION:Bagá\, Plaza de Cataluña\, 1\, Bagá\, Barcelona\, 08695\, España
CATEGORIES:Rito,Ritos,Tradiciones,Costumbres, Ritos, Folclore
ATTACH;FMTTYPE=image/jpeg:https://www.tradicionesyfiestas.com/wp-content/uploads/2013/11/fia-faia-cabecera-evento.jpg
END:VEVENT
END:VCALENDAR