BEGIN:VCALENDAR
VERSION:2.0
PRODID:-//Fiestas y Tradiciones  - ECPv6.15.11//NONSGML v1.0//EN
CALSCALE:GREGORIAN
METHOD:PUBLISH
X-WR-CALNAME:Fiestas y Tradiciones 
X-ORIGINAL-URL:https://www.tradicionesyfiestas.com
X-WR-CALDESC:Eventos para Fiestas y Tradiciones 
REFRESH-INTERVAL;VALUE=DURATION:PT1H
X-Robots-Tag:noindex
X-PUBLISHED-TTL:PT1H
BEGIN:VTIMEZONE
TZID:Europe/Madrid
BEGIN:DAYLIGHT
TZOFFSETFROM:+0100
TZOFFSETTO:+0200
TZNAME:CEST
DTSTART:20260329T010000
END:DAYLIGHT
BEGIN:STANDARD
TZOFFSETFROM:+0200
TZOFFSETTO:+0100
TZNAME:CET
DTSTART:20261025T010000
END:STANDARD
BEGIN:DAYLIGHT
TZOFFSETFROM:+0100
TZOFFSETTO:+0200
TZNAME:CEST
DTSTART:20270328T010000
END:DAYLIGHT
BEGIN:STANDARD
TZOFFSETFROM:+0200
TZOFFSETTO:+0100
TZNAME:CET
DTSTART:20271031T010000
END:STANDARD
BEGIN:DAYLIGHT
TZOFFSETFROM:+0100
TZOFFSETTO:+0200
TZNAME:CEST
DTSTART:20280326T010000
END:DAYLIGHT
BEGIN:STANDARD
TZOFFSETFROM:+0200
TZOFFSETTO:+0100
TZNAME:CET
DTSTART:20281029T010000
END:STANDARD
END:VTIMEZONE
BEGIN:VEVENT
DTSTART;TZID=Europe/Madrid:20270116T193000
DTEND;TZID=Europe/Madrid:20270116T235900
DTSTAMP:20260421T174127
CREATED:20140110T144521Z
LAST-MODIFIED:20260206T143531Z
UID:2954-1800127800-1800143940@www.tradicionesyfiestas.com
SUMMARY:Las Luminarias de San Bartolomé de Pinares
DESCRIPTION:  \n\n \n\nAdquiere Copias de Autor firmadas por Pedro Armestre pulsando sobre la imagen \nDónde y Cuándo\nLas Luminarias de San Bartolomé de Pinares 16/01/2027 \nSan Bartolomé de Pinares. Ávila. España. Europa. \nLa tradición de Las Luminarias se celebra en la localidad abulense de San Bartolomé de Pinares cada noche del 16 de Enero. \nTambién se celebra en otras localidades de España\, aunque las más conocidas son ésta y las de Villar del Rey en la provincia de Badajoz. \nSan Bartolomé de Pinares es un municipio de algo más de 600 habitantes situado en la Comarca de Pinares\, Ávila. \nOrigen…unas píldoras de Historia  \nNo existe un origen documentado de esta tradición pero se cree que puede estar en el siglo XVIII. La fiesta siempre ha estado ligada a la celebración del día de San Antón (17 de Enero) y es entorno a la celebración de este santo al que se identifica con el cuidado de los animales (es el patrón de los mismos). \nRito de purificación: el sentido de la tradición es que los animales que durante el periodo agrícola habían trabajado en las labores del campo\, se librasen de cualquier mal (las epidemias era el mal más común) y fuesen purificados; esta purificación se hacía saltando las hogueras recibiendo así el humo purificador. \nLa Mirada/Nuestra Mirada\nEs el 16 de Enero el día grande de esta celebración que precede al día de San Antón. \nA las 19.30h comienza la misa de las vísperas de San Antón; una vez terminada la misa\, el mayordomo (encargado de organizar la fiesta) y sus ayudantes los «jurados» irán comprobando que se están encendiendo las luminarias u hogueras. \nDespués\, en torno a las 21h y con la bendición del sacerdote de la localidad\, comienzan a saltar las hogueras los jinetes con sus caballos; éste es el comienzo de las luminarias. \nHasta bien entrada la noche\, los jinetes\, la gente del pueblo y también de localidades cercanas\, saltarán todas las hogueras que a lo largo del recorrido se encuentren. \nTodo termina al día siguiente\, festividad de  San Antón\, con el acto de «Las Cintas» \, carrera entre varios jinetes que compiten por coger las cintas que cuelgan de una cuerda. \nLas Luminarias de San Bartolomé de Pinares: curiosidades\nEn el recorrido que hace el Mayordomo junto a los «jurados»\, el primero porta la «Vara del Santo»  que representa la imagen del San Antón. \nDicha vara es «ahumada» durante todo el recorrido a modo de ofrenda al Santo. \nLas Luminarias de San Bartolomé de Pinares: Información Práctica\nActividades: realizar la ruta de Isabel de Castilla\,  la de Santa Teresa o San Juan de la Cruz\, disfrutar ricos manjares en cualquiera de los magníficos restaurantes de la región y dormir en alguno de los alojamientos de la zona. \n\nLUMINARIAS 2013 \nfrom Vidicam on Vimeo. \nSi quieres ampliar la información turística visita la web de Ávila Turismo. \n  \n 
URL:https://www.tradicionesyfiestas.com/fiesta/las-luminarias-de-san-bartolome-de-pinares/
LOCATION:San Bartolomé de Pinares\, c/ La Virgen\, 1\, San Bartolomé de Pinares\, Ávila\, 05267\, España
CATEGORIES:Tradiciones,Costumbres, Ritos, Folclore
ATTACH;FMTTYPE=image/jpeg:https://www.tradicionesyfiestas.com/wp-content/uploads/2014/01/luminarias-pedro-armestre-cabecera.jpg
END:VEVENT
END:VCALENDAR