BEGIN:VCALENDAR
VERSION:2.0
PRODID:-//Fiestas y Tradiciones  - ECPv6.15.11//NONSGML v1.0//EN
CALSCALE:GREGORIAN
METHOD:PUBLISH
X-ORIGINAL-URL:https://www.tradicionesyfiestas.com
X-WR-CALDESC:Eventos para Fiestas y Tradiciones 
REFRESH-INTERVAL;VALUE=DURATION:PT1H
X-Robots-Tag:noindex
X-PUBLISHED-TTL:PT1H
BEGIN:VTIMEZONE
TZID:Europe/Madrid
BEGIN:DAYLIGHT
TZOFFSETFROM:+0100
TZOFFSETTO:+0200
TZNAME:CEST
DTSTART:20260329T010000
END:DAYLIGHT
BEGIN:STANDARD
TZOFFSETFROM:+0200
TZOFFSETTO:+0100
TZNAME:CET
DTSTART:20261025T010000
END:STANDARD
BEGIN:DAYLIGHT
TZOFFSETFROM:+0100
TZOFFSETTO:+0200
TZNAME:CEST
DTSTART:20270328T010000
END:DAYLIGHT
BEGIN:STANDARD
TZOFFSETFROM:+0200
TZOFFSETTO:+0100
TZNAME:CET
DTSTART:20271031T010000
END:STANDARD
BEGIN:DAYLIGHT
TZOFFSETFROM:+0100
TZOFFSETTO:+0200
TZNAME:CEST
DTSTART:20280326T010000
END:DAYLIGHT
BEGIN:STANDARD
TZOFFSETFROM:+0200
TZOFFSETTO:+0100
TZNAME:CET
DTSTART:20281029T010000
END:STANDARD
END:VTIMEZONE
BEGIN:VEVENT
DTSTART;TZID=Europe/Madrid:20270228T110000
DTEND;TZID=Europe/Madrid:20270228T200000
DTSTAMP:20260419T185836
CREATED:20200301T110041Z
LAST-MODIFIED:20260308T151625Z
UID:3100-1803812400-1803844800@www.tradicionesyfiestas.com
SUMMARY:Xatonada Popular de Cubelles
DESCRIPTION:Dónde y Cuándo\nXatonada Popular de Cubelles 28/02/2027 \nCubelles. Barcelona. España. Europa. \nLa Xatonada Popular\, curiosa fiesta gastronómica\, se desarrolla en la localidad de Cubelles en la provincia de Barcelona\, generalmente en la primera quincena de Febrero o a principios de marzo\, \nEn 2027 (pendiente de confirmación) \nCubelles es una localidad de unos 15000 habitantes situada en la Comarca del Garraf. \nOrigen…unas píldoras de Historia\nEl origen de la Xatonada Popular de Cubelles\, al contrario de la mayoría de fiestas\, es muy reciente. La Xatonada de Cubelles se organiza desde el año 2001. La fiesta se celebra para poner en valor el Xató\, comida típica popular de las comarcas del Garraf y el Penedés.    \nTodavía se discute el origen de este plato\, situándolo en diferentes comarcas catalanas.  \nEl Xató es mar y es huerta ya que se elabora con escarola\, aceitunas\, bacalao\, atún y anchoas. Se completa con la salsa de Xató compuesta por avellanas\, almendras\, miga de pan más aceite\, ajo\, vinagre\, ñora (pimiento) y sal. \nQué es / En qué consiste \nCada año\, un domingo de la primera quincena de Febrero se celebra en Cubelles la Xatonada Popular. Tiene lugar en el casco antiguo de la ciudad. \nEste año\, el  día 16 a las 11h comienzan los actos con el Concurso de Maestros Xatonaires para continuar a las 12h con la Cata de los Maestros Xatonaires. A las 13h se entregan los premios. \nAdemás de poder degustar el Xató también se ofrece vino\, cava y postre. \nLa mañana se ameniza con batucada y también con teatro. \nXatonada Popular de Cubelles: curiosidades\nComo dato curioso\, te comentaré que se ha creado una ruta llamada «Ruta del Xató» que incluye a diversas poblaciones de las Comarcas Alt Penedés\, Baix Penedés y Garraf. La ruta comienza en el mes de Enero y suele durar hasta el mes de Abril.  \nXatonada Popular de Cubelles: información Practica\nActividades: realizar diferentes actividades náuticas\, visitar la Exposición permanente del Payaso Charlie Rivel\, visitar las bodegas de la zona para probar sus vinos y cavas\, comer en alguno de los mejores restaurantes de la zona y dormir en cualquiera de los cómodos alojamientos disponibles. \nSi quieres ampliar información puedes visitar la web de Garraf Consorci de Turisme \n“La foto de cabecera y la foto que ilustra este post se han publicado bajo licencia Creative Commons en el Flickr ajuntamentdeCubelles « \n 
URL:https://www.tradicionesyfiestas.com/fiesta/xatonada-popular-de-cubelles/
LOCATION:Cubelles\, Plaza del Castell\, s/n\, Cubelles\, Barcelona\, 08880\, España
CATEGORIES:Día de,Fiestas Populares
ATTACH;FMTTYPE=image/jpeg:https://www.tradicionesyfiestas.com/wp-content/uploads/2014/02/xatonada-cubelles-cabecera.jpg
END:VEVENT
END:VCALENDAR